BEGIN:VCALENDAR
VERSION:2.0
PRODID:-//Ananda Chico Meditation Center - ECPv6.15.1.1//NONSGML v1.0//EN
CALSCALE:GREGORIAN
METHOD:PUBLISH
X-WR-CALNAME:Ananda Chico Meditation Center
X-ORIGINAL-URL:https://www.anandachico.org
X-WR-CALDESC:Events for Ananda Chico Meditation Center
REFRESH-INTERVAL;VALUE=DURATION:PT1H
X-Robots-Tag:noindex
X-PUBLISHED-TTL:PT1H
BEGIN:VTIMEZONE
TZID:America/Los_Angeles
BEGIN:DAYLIGHT
TZOFFSETFROM:-0800
TZOFFSETTO:-0700
TZNAME:PDT
DTSTART:20150308T100000
END:DAYLIGHT
BEGIN:STANDARD
TZOFFSETFROM:-0700
TZOFFSETTO:-0800
TZNAME:PST
DTSTART:20151101T090000
END:STANDARD
END:VTIMEZONE
BEGIN:VEVENT
DTSTART;TZID=America/Los_Angeles:20150221T140000
DTEND;TZID=America/Los_Angeles:20150221T160000
DTSTAMP:20260424T041656
CREATED:20150127T061714Z
LAST-MODIFIED:20150127T061714Z
UID:1575-1424527200-1424534400@www.anandachico.org
SUMMARY:Learn to Meditate Workshop
DESCRIPTION:Are you looking for more peace\, calmness\, and joy during the New Year?  Looking for a way to bring higher consciousness and your higher power deeper into your life?  Experts tell us that meditation can help us find more freedom from stress\, better concentration\, and improved health.\n\nTreat yourself to a more peaceful\, joyful\, and uplifted life\, making meditation a part of your everyday experience. Join us for this Saturday class to learn an effective meditation technique to help you concentrate more deeply and experience inner states of peace\, calmness & joy.  Anyone can learn this essential skill!\n  \n\n  \n \n  \n$30 includes the book\, How to Meditate\, and other course materials. \nTo register or for more information:  info@anandachico.org or call (530) 343-0819
URL:https://www.anandachico.org/event/learn-to-meditate-workshop/
END:VEVENT
END:VCALENDAR