BEGIN:VCALENDAR
VERSION:2.0
PRODID:-//Ananda Chico Meditation Center - ECPv6.15.1.1//NONSGML v1.0//EN
CALSCALE:GREGORIAN
METHOD:PUBLISH
X-ORIGINAL-URL:https://www.anandachico.org
X-WR-CALDESC:Events for Ananda Chico Meditation Center
REFRESH-INTERVAL;VALUE=DURATION:PT1H
X-Robots-Tag:noindex
X-PUBLISHED-TTL:PT1H
BEGIN:VTIMEZONE
TZID:America/Los_Angeles
BEGIN:DAYLIGHT
TZOFFSETFROM:-0800
TZOFFSETTO:-0700
TZNAME:PDT
DTSTART:20260308T100000
END:DAYLIGHT
BEGIN:STANDARD
TZOFFSETFROM:-0700
TZOFFSETTO:-0800
TZNAME:PST
DTSTART:20261101T090000
END:STANDARD
END:VTIMEZONE
BEGIN:VEVENT
DTSTART;TZID=America/Los_Angeles:20260302T120000
DTEND;TZID=America/Los_Angeles:20260302T130000
DTSTAMP:20260423T093600
CREATED:20260305T182423Z
LAST-MODIFIED:20260305T182423Z
UID:7657-1772452800-1772456400@www.anandachico.org
SUMMARY:Group Meditation
DESCRIPTION:
URL:https://www.anandachico.org/event/group-meditation-141/
END:VEVENT
BEGIN:VEVENT
DTSTART;TZID=America/Los_Angeles:20260305T120000
DTEND;TZID=America/Los_Angeles:20260305T130000
DTSTAMP:20260423T093600
CREATED:20260305T182130Z
LAST-MODIFIED:20260305T182130Z
UID:7655-1772712000-1772715600@www.anandachico.org
SUMMARY:Group Meditation
DESCRIPTION:
URL:https://www.anandachico.org/event/group-meditation-140/
END:VEVENT
BEGIN:VEVENT
DTSTART;TZID=America/Los_Angeles:20260309T120000
DTEND;TZID=America/Los_Angeles:20260309T130000
DTSTAMP:20260423T093600
CREATED:20260305T182535Z
LAST-MODIFIED:20260305T182535Z
UID:7659-1773057600-1773061200@www.anandachico.org
SUMMARY:Group Meditation
DESCRIPTION:
URL:https://www.anandachico.org/event/group-meditation-142/
END:VEVENT
BEGIN:VEVENT
DTSTART;TZID=America/Los_Angeles:20260312T120000
DTEND;TZID=America/Los_Angeles:20260312T130000
DTSTAMP:20260423T093600
CREATED:20260305T182633Z
LAST-MODIFIED:20260305T182633Z
UID:7661-1773316800-1773320400@www.anandachico.org
SUMMARY:Group Meditation
DESCRIPTION:
URL:https://www.anandachico.org/event/group-meditation-143/
END:VEVENT
BEGIN:VEVENT
DTSTART;TZID=America/Los_Angeles:20260316T120000
DTEND;TZID=America/Los_Angeles:20260316T130000
DTSTAMP:20260423T093600
CREATED:20260305T182811Z
LAST-MODIFIED:20260305T182811Z
UID:7663-1773662400-1773666000@www.anandachico.org
SUMMARY:Group Meditation
DESCRIPTION:
URL:https://www.anandachico.org/event/group-meditation-144/
END:VEVENT
BEGIN:VEVENT
DTSTART;TZID=America/Los_Angeles:20260319T120000
DTEND;TZID=America/Los_Angeles:20260319T130000
DTSTAMP:20260423T093600
CREATED:20260305T182923Z
LAST-MODIFIED:20260305T182923Z
UID:7665-1773921600-1773925200@www.anandachico.org
SUMMARY:Group Meditation
DESCRIPTION:
URL:https://www.anandachico.org/event/group-meditation-145/
END:VEVENT
BEGIN:VEVENT
DTSTART;TZID=America/Los_Angeles:20260323T120000
DTEND;TZID=America/Los_Angeles:20260323T130000
DTSTAMP:20260423T093600
CREATED:20260305T183039Z
LAST-MODIFIED:20260305T183039Z
UID:7667-1774267200-1774270800@www.anandachico.org
SUMMARY:Group Meditation
DESCRIPTION:
URL:https://www.anandachico.org/event/group-meditation-146/
END:VEVENT
BEGIN:VEVENT
DTSTART;TZID=America/Los_Angeles:20260324T190000
DTEND;TZID=America/Los_Angeles:20260324T203000
DTSTAMP:20260423T093600
CREATED:20260321T192538Z
LAST-MODIFIED:20260321T192538Z
UID:7686-1774378800-1774384200@www.anandachico.org
SUMMARY:Learn to Meditate Class
DESCRIPTION:
URL:https://www.anandachico.org/event/learn-to-meditate-class-14/
END:VEVENT
BEGIN:VEVENT
DTSTART;TZID=America/Los_Angeles:20260326T120000
DTEND;TZID=America/Los_Angeles:20260326T130000
DTSTAMP:20260423T093600
CREATED:20260305T183152Z
LAST-MODIFIED:20260305T183152Z
UID:7669-1774526400-1774530000@www.anandachico.org
SUMMARY:Group Meditation
DESCRIPTION:
URL:https://www.anandachico.org/event/group-meditation-147/
END:VEVENT
BEGIN:VEVENT
DTSTART;TZID=America/Los_Angeles:20260327T140000
DTEND;TZID=America/Los_Angeles:20260327T160000
DTSTAMP:20260423T093600
CREATED:20260321T192708Z
LAST-MODIFIED:20260321T192708Z
UID:7689-1774620000-1774627200@www.anandachico.org
SUMMARY:Learn to Meditate Class
DESCRIPTION:
URL:https://www.anandachico.org/event/learn-to-meditate-class-15/
END:VEVENT
BEGIN:VEVENT
DTSTART;TZID=America/Los_Angeles:20260330T120000
DTEND;TZID=America/Los_Angeles:20260330T130000
DTSTAMP:20260423T093600
CREATED:20260305T183305Z
LAST-MODIFIED:20260305T183305Z
UID:7671-1774872000-1774875600@www.anandachico.org
SUMMARY:Group Meditation
DESCRIPTION:
URL:https://www.anandachico.org/event/group-meditation-148/
END:VEVENT
END:VCALENDAR