BEGIN:VCALENDAR
VERSION:2.0
PRODID:-//Ananda Chico Meditation Center - ECPv6.15.1.1//NONSGML v1.0//EN
CALSCALE:GREGORIAN
METHOD:PUBLISH
X-ORIGINAL-URL:https://www.anandachico.org
X-WR-CALDESC:Events for Ananda Chico Meditation Center
REFRESH-INTERVAL;VALUE=DURATION:PT1H
X-Robots-Tag:noindex
X-PUBLISHED-TTL:PT1H
BEGIN:VTIMEZONE
TZID:America/Los_Angeles
BEGIN:DAYLIGHT
TZOFFSETFROM:-0800
TZOFFSETTO:-0700
TZNAME:PDT
DTSTART:20260308T100000
END:DAYLIGHT
BEGIN:STANDARD
TZOFFSETFROM:-0700
TZOFFSETTO:-0800
TZNAME:PST
DTSTART:20261101T090000
END:STANDARD
END:VTIMEZONE
BEGIN:VEVENT
DTSTART;TZID=America/Los_Angeles:20260202T120000
DTEND;TZID=America/Los_Angeles:20260202T130000
DTSTAMP:20260423T112852
CREATED:20260207T211047Z
LAST-MODIFIED:20260207T211218Z
UID:7634-1770033600-1770037200@www.anandachico.org
SUMMARY:Group Meditation
DESCRIPTION:
URL:https://www.anandachico.org/event/group-meditation-137/
END:VEVENT
BEGIN:VEVENT
DTSTART;TZID=America/Los_Angeles:20260205T120000
DTEND;TZID=America/Los_Angeles:20260205T130000
DTSTAMP:20260423T112852
CREATED:20260207T210951Z
LAST-MODIFIED:20260207T210951Z
UID:7632-1770292800-1770296400@www.anandachico.org
SUMMARY:Group Meditation
DESCRIPTION:
URL:https://www.anandachico.org/event/group-meditation-136/
END:VEVENT
BEGIN:VEVENT
DTSTART;TZID=America/Los_Angeles:20260209T120000
DTEND;TZID=America/Los_Angeles:20260209T130000
DTSTAMP:20260423T112852
CREATED:20260207T210400Z
LAST-MODIFIED:20260207T210400Z
UID:7625-1770638400-1770642000@www.anandachico.org
SUMMARY:Group Meditation
DESCRIPTION:
URL:https://www.anandachico.org/event/group-meditation-134/
END:VEVENT
BEGIN:VEVENT
DTSTART;TZID=America/Los_Angeles:20260211T140000
DTEND;TZID=America/Los_Angeles:20260211T160000
DTSTAMP:20260423T112852
CREATED:20260207T212744Z
LAST-MODIFIED:20260207T212744Z
UID:7645-1770818400-1770825600@www.anandachico.org
SUMMARY:Learn to Meditate Class
DESCRIPTION:
URL:https://www.anandachico.org/event/learn-to-meditate-class-13/
END:VEVENT
BEGIN:VEVENT
DTSTART;TZID=America/Los_Angeles:20260212T120000
DTEND;TZID=America/Los_Angeles:20260212T130000
DTSTAMP:20260423T112852
CREATED:20260207T210521Z
LAST-MODIFIED:20260207T210521Z
UID:7627-1770897600-1770901200@www.anandachico.org
SUMMARY:Group Meditation
DESCRIPTION:
URL:https://www.anandachico.org/event/group-meditation-135/
END:VEVENT
BEGIN:VEVENT
DTSTART;TZID=America/Los_Angeles:20260215T140000
DTEND;TZID=America/Los_Angeles:20260222T140000
DTSTAMP:20260423T112852
CREATED:20260207T211639Z
LAST-MODIFIED:20260207T211639Z
UID:7641-1771164000-1771768800@www.anandachico.org
SUMMARY:Inner Renewal Week at Ananda Village
DESCRIPTION:
URL:https://www.anandachico.org/event/inner-renewal-week-at-ananda-village/
END:VEVENT
BEGIN:VEVENT
DTSTART;TZID=America/Los_Angeles:20260223T120000
DTEND;TZID=America/Los_Angeles:20260223T130000
DTSTAMP:20260423T112852
CREATED:20260207T211328Z
LAST-MODIFIED:20260207T211328Z
UID:7637-1771848000-1771851600@www.anandachico.org
SUMMARY:Group Meditation
DESCRIPTION:
URL:https://www.anandachico.org/event/group-meditation-138/
END:VEVENT
BEGIN:VEVENT
DTSTART;TZID=America/Los_Angeles:20260224T190000
DTEND;TZID=America/Los_Angeles:20260224T203000
DTSTAMP:20260423T112852
CREATED:20260207T212400Z
LAST-MODIFIED:20260207T212450Z
UID:7643-1771959600-1771965000@www.anandachico.org
SUMMARY:Learn to Meditate Class
DESCRIPTION:
URL:https://www.anandachico.org/event/learn-to-meditate-class-12/
END:VEVENT
BEGIN:VEVENT
DTSTART;TZID=America/Los_Angeles:20260226T120000
DTEND;TZID=America/Los_Angeles:20260226T130000
DTSTAMP:20260423T112852
CREATED:20260207T211440Z
LAST-MODIFIED:20260207T211440Z
UID:7639-1772107200-1772110800@www.anandachico.org
SUMMARY:Group Meditation
DESCRIPTION:
URL:https://www.anandachico.org/event/group-meditation-139/
END:VEVENT
END:VCALENDAR