BEGIN:VCALENDAR
VERSION:2.0
PRODID:-//Ananda Chico Meditation Center - ECPv6.15.1.1//NONSGML v1.0//EN
CALSCALE:GREGORIAN
METHOD:PUBLISH
X-ORIGINAL-URL:https://www.anandachico.org
X-WR-CALDESC:Events for Ananda Chico Meditation Center
REFRESH-INTERVAL;VALUE=DURATION:PT1H
X-Robots-Tag:noindex
X-PUBLISHED-TTL:PT1H
BEGIN:VTIMEZONE
TZID:America/Los_Angeles
BEGIN:DAYLIGHT
TZOFFSETFROM:-0800
TZOFFSETTO:-0700
TZNAME:PDT
DTSTART:20250309T100000
END:DAYLIGHT
BEGIN:STANDARD
TZOFFSETFROM:-0700
TZOFFSETTO:-0800
TZNAME:PST
DTSTART:20251102T090000
END:STANDARD
END:VTIMEZONE
BEGIN:VEVENT
DTSTART;TZID=America/Los_Angeles:20250803T150000
DTEND;TZID=America/Los_Angeles:20250803T170000
DTSTAMP:20260423T212651
CREATED:20250803T204102Z
LAST-MODIFIED:20250803T204102Z
UID:7559-1754233200-1754240400@www.anandachico.org
SUMMARY:Restorative Yoga to Awaken the Chakras
DESCRIPTION:
URL:https://www.anandachico.org/event/restorative-yoga-to-awaken-the-chakras-3/
END:VEVENT
BEGIN:VEVENT
DTSTART;TZID=America/Los_Angeles:20250804T120000
DTEND;TZID=America/Los_Angeles:20250804T130000
DTSTAMP:20260423T212651
CREATED:20250803T204328Z
LAST-MODIFIED:20250803T204328Z
UID:7561-1754308800-1754312400@www.anandachico.org
SUMMARY:Group Meditation
DESCRIPTION:
URL:https://www.anandachico.org/event/group-meditation-122/
END:VEVENT
BEGIN:VEVENT
DTSTART;TZID=America/Los_Angeles:20250804T170000
DTEND;TZID=America/Los_Angeles:20250804T180000
DTSTAMP:20260423T212651
CREATED:20250803T204421Z
LAST-MODIFIED:20250803T204421Z
UID:7563-1754326800-1754330400@www.anandachico.org
SUMMARY:Ananda Yoga
DESCRIPTION:
URL:https://www.anandachico.org/event/ananda-yoga-327/
END:VEVENT
BEGIN:VEVENT
DTSTART;TZID=America/Los_Angeles:20250806T070000
DTEND;TZID=America/Los_Angeles:20250806T200000
DTSTAMP:20260423T212651
CREATED:20250803T204629Z
LAST-MODIFIED:20250803T204629Z
UID:7567-1754463600-1754510400@www.anandachico.org
SUMMARY:Raja Yoga Class #1
DESCRIPTION:
URL:https://www.anandachico.org/event/raja-yoga-class-1-5/
END:VEVENT
BEGIN:VEVENT
DTSTART;TZID=America/Los_Angeles:20250806T140000
DTEND;TZID=America/Los_Angeles:20250806T160000
DTSTAMP:20260423T212651
CREATED:20250803T204532Z
LAST-MODIFIED:20250803T204532Z
UID:7565-1754488800-1754496000@www.anandachico.org
SUMMARY:Raja Yoga Class #1
DESCRIPTION:
URL:https://www.anandachico.org/event/raja-yoga-class-1-4/
END:VEVENT
BEGIN:VEVENT
DTSTART;TZID=America/Los_Angeles:20250807T120000
DTEND;TZID=America/Los_Angeles:20250807T130000
DTSTAMP:20260423T212651
CREATED:20250803T204742Z
LAST-MODIFIED:20250803T210815Z
UID:7569-1754568000-1754571600@www.anandachico.org
SUMMARY:Group Meditation
DESCRIPTION:
URL:https://www.anandachico.org/event/group-meditation-123/
END:VEVENT
BEGIN:VEVENT
DTSTART;TZID=America/Los_Angeles:20250810T140000
DTEND;TZID=America/Los_Angeles:20250810T160000
DTSTAMP:20260423T212651
CREATED:20250803T204853Z
LAST-MODIFIED:20250803T204853Z
UID:7571-1754834400-1754841600@www.anandachico.org
SUMMARY:Restorative Yoga to Awaken the Chakras
DESCRIPTION:
URL:https://www.anandachico.org/event/restorative-yoga-to-awaken-the-chakras-4/
END:VEVENT
BEGIN:VEVENT
DTSTART;TZID=America/Los_Angeles:20250811T110000
DTEND;TZID=America/Los_Angeles:20250811T120000
DTSTAMP:20260423T212651
CREATED:20250803T204957Z
LAST-MODIFIED:20250803T204957Z
UID:7573-1754910000-1754913600@www.anandachico.org
SUMMARY:Group Meditation
DESCRIPTION:
URL:https://www.anandachico.org/event/group-meditation-124/
END:VEVENT
BEGIN:VEVENT
DTSTART;TZID=America/Los_Angeles:20250811T170000
DTEND;TZID=America/Los_Angeles:20250811T180000
DTSTAMP:20260423T212651
CREATED:20250803T205102Z
LAST-MODIFIED:20250803T205102Z
UID:7575-1754931600-1754935200@www.anandachico.org
SUMMARY:Ananda Yoga
DESCRIPTION:
URL:https://www.anandachico.org/event/ananda-yoga-328/
END:VEVENT
BEGIN:VEVENT
DTSTART;TZID=America/Los_Angeles:20250814T120000
DTEND;TZID=America/Los_Angeles:20250814T130000
DTSTAMP:20260423T212651
CREATED:20250803T205221Z
LAST-MODIFIED:20250803T205221Z
UID:7577-1755172800-1755176400@www.anandachico.org
SUMMARY:Group Meditation
DESCRIPTION:
URL:https://www.anandachico.org/event/group-meditation-125/
END:VEVENT
BEGIN:VEVENT
DTSTART;TZID=America/Los_Angeles:20250815T140000
DTEND;TZID=America/Los_Angeles:20250815T160000
DTSTAMP:20260423T212651
CREATED:20250803T205901Z
LAST-MODIFIED:20250803T205901Z
UID:7582-1755266400-1755273600@www.anandachico.org
SUMMARY:Learn to Meditate
DESCRIPTION:
URL:https://www.anandachico.org/event/learn-to-meditate-76/
END:VEVENT
BEGIN:VEVENT
DTSTART;TZID=America/Los_Angeles:20250817T140000
DTEND;TZID=America/Los_Angeles:20250817T160000
DTSTAMP:20260423T212651
CREATED:20250803T210019Z
LAST-MODIFIED:20250803T210019Z
UID:7584-1755439200-1755446400@www.anandachico.org
SUMMARY:Restorative Yoga to Awaken the Chakras
DESCRIPTION:
URL:https://www.anandachico.org/event/restorative-yoga-to-awaken-the-chakras-5/
END:VEVENT
BEGIN:VEVENT
DTSTART;TZID=America/Los_Angeles:20250818T120000
DTEND;TZID=America/Los_Angeles:20250818T130000
DTSTAMP:20260423T212651
CREATED:20250803T210131Z
LAST-MODIFIED:20250803T210131Z
UID:7586-1755518400-1755522000@www.anandachico.org
SUMMARY:Group Meditation
DESCRIPTION:
URL:https://www.anandachico.org/event/group-meditation-126/
END:VEVENT
BEGIN:VEVENT
DTSTART;TZID=America/Los_Angeles:20250818T170000
DTEND;TZID=America/Los_Angeles:20250818T180000
DTSTAMP:20260423T212651
CREATED:20250803T210247Z
LAST-MODIFIED:20250803T210247Z
UID:7588-1755536400-1755540000@www.anandachico.org
SUMMARY:Ananda Yoga
DESCRIPTION:
URL:https://www.anandachico.org/event/ananda-yoga-329/
END:VEVENT
BEGIN:VEVENT
DTSTART;TZID=America/Los_Angeles:20250819T190000
DTEND;TZID=America/Los_Angeles:20250819T210000
DTSTAMP:20260423T212651
CREATED:20250803T210357Z
LAST-MODIFIED:20250803T210357Z
UID:7590-1755630000-1755637200@www.anandachico.org
SUMMARY:Learn to Meditate
DESCRIPTION:
URL:https://www.anandachico.org/event/learn-to-meditate-77/
END:VEVENT
BEGIN:VEVENT
DTSTART;TZID=America/Los_Angeles:20250820T140000
DTEND;TZID=America/Los_Angeles:20250820T160000
DTSTAMP:20260423T212651
CREATED:20250803T210515Z
LAST-MODIFIED:20250803T210515Z
UID:7592-1755698400-1755705600@www.anandachico.org
SUMMARY:Raja Yoga Class #2
DESCRIPTION:
URL:https://www.anandachico.org/event/raja-yoga-class-2-6/
END:VEVENT
BEGIN:VEVENT
DTSTART;TZID=America/Los_Angeles:20250820T190000
DTEND;TZID=America/Los_Angeles:20250820T210000
DTSTAMP:20260423T212651
CREATED:20250803T210949Z
LAST-MODIFIED:20250803T210949Z
UID:7594-1755716400-1755723600@www.anandachico.org
SUMMARY:Raja Yoga Class #2
DESCRIPTION:
URL:https://www.anandachico.org/event/raja-yoga-class-2-7/
END:VEVENT
BEGIN:VEVENT
DTSTART;TZID=America/Los_Angeles:20250821T120000
DTEND;TZID=America/Los_Angeles:20250821T130000
DTSTAMP:20260423T212651
CREATED:20250803T211110Z
LAST-MODIFIED:20250803T211110Z
UID:7596-1755777600-1755781200@www.anandachico.org
SUMMARY:Group Meditation
DESCRIPTION:
URL:https://www.anandachico.org/event/group-meditation-127/
END:VEVENT
BEGIN:VEVENT
DTSTART;TZID=America/Los_Angeles:20250824T140000
DTEND;TZID=America/Los_Angeles:20250824T160000
DTSTAMP:20260423T212651
CREATED:20250803T211226Z
LAST-MODIFIED:20250803T211226Z
UID:7598-1756044000-1756051200@www.anandachico.org
SUMMARY:Restorative Yoga to Awaken the Chakras
DESCRIPTION:
URL:https://www.anandachico.org/event/restorative-yoga-to-awaken-the-chakras-6/
END:VEVENT
BEGIN:VEVENT
DTSTART;TZID=America/Los_Angeles:20250825T120000
DTEND;TZID=America/Los_Angeles:20250825T130000
DTSTAMP:20260423T212651
CREATED:20250803T211334Z
LAST-MODIFIED:20250803T211334Z
UID:7600-1756123200-1756126800@www.anandachico.org
SUMMARY:Group Meditation
DESCRIPTION:
URL:https://www.anandachico.org/event/group-meditation-128/
END:VEVENT
BEGIN:VEVENT
DTSTART;TZID=America/Los_Angeles:20250825T170000
DTEND;TZID=America/Los_Angeles:20250825T180000
DTSTAMP:20260423T212651
CREATED:20250803T211441Z
LAST-MODIFIED:20250803T211441Z
UID:7602-1756141200-1756144800@www.anandachico.org
SUMMARY:Ananda Yoga
DESCRIPTION:
URL:https://www.anandachico.org/event/ananda-yoga-330/
END:VEVENT
BEGIN:VEVENT
DTSTART;TZID=America/Los_Angeles:20250828T120000
DTEND;TZID=America/Los_Angeles:20250828T130000
DTSTAMP:20260423T212651
CREATED:20250803T211549Z
LAST-MODIFIED:20250803T211549Z
UID:7604-1756382400-1756386000@www.anandachico.org
SUMMARY:Group Meditation
DESCRIPTION:
URL:https://www.anandachico.org/event/group-meditation-129/
END:VEVENT
END:VCALENDAR