BEGIN:VCALENDAR
VERSION:2.0
PRODID:-//Ananda Chico Meditation Center - ECPv6.15.1.1//NONSGML v1.0//EN
CALSCALE:GREGORIAN
METHOD:PUBLISH
X-WR-CALNAME:Ananda Chico Meditation Center
X-ORIGINAL-URL:https://www.anandachico.org
X-WR-CALDESC:Events for Ananda Chico Meditation Center
REFRESH-INTERVAL;VALUE=DURATION:PT1H
X-Robots-Tag:noindex
X-PUBLISHED-TTL:PT1H
BEGIN:VTIMEZONE
TZID:America/Los_Angeles
BEGIN:DAYLIGHT
TZOFFSETFROM:-0800
TZOFFSETTO:-0700
TZNAME:PDT
DTSTART:20250309T100000
END:DAYLIGHT
BEGIN:STANDARD
TZOFFSETFROM:-0700
TZOFFSETTO:-0800
TZNAME:PST
DTSTART:20251102T090000
END:STANDARD
END:VTIMEZONE
BEGIN:VEVENT
DTSTART;TZID=America/Los_Angeles:20250703T120000
DTEND;TZID=America/Los_Angeles:20250703T130000
DTSTAMP:20260423T231120
CREATED:20250701T030322Z
LAST-MODIFIED:20250701T030322Z
UID:7497-1751544000-1751547600@www.anandachico.org
SUMMARY:Group Meditation
DESCRIPTION:
URL:https://www.anandachico.org/event/group-meditation-113/
END:VEVENT
BEGIN:VEVENT
DTSTART;TZID=America/Los_Angeles:20250707T120000
DTEND;TZID=America/Los_Angeles:20250707T130000
DTSTAMP:20260423T231120
CREATED:20250701T030716Z
LAST-MODIFIED:20250701T030716Z
UID:7501-1751889600-1751893200@www.anandachico.org
SUMMARY:Group Meditation
DESCRIPTION:
URL:https://www.anandachico.org/event/group-meditation-114/
END:VEVENT
BEGIN:VEVENT
DTSTART;TZID=America/Los_Angeles:20250707T170000
DTEND;TZID=America/Los_Angeles:20250707T180000
DTSTAMP:20260423T231120
CREATED:20250701T030542Z
LAST-MODIFIED:20250701T030542Z
UID:7499-1751907600-1751911200@www.anandachico.org
SUMMARY:Ananda Yoga
DESCRIPTION:
URL:https://www.anandachico.org/event/ananda-yoga-323/
END:VEVENT
BEGIN:VEVENT
DTSTART;TZID=America/Los_Angeles:20250709T140000
DTEND;TZID=America/Los_Angeles:20250709T153000
DTSTAMP:20260423T231120
CREATED:20250701T030901Z
LAST-MODIFIED:20250701T030901Z
UID:7503-1752069600-1752075000@www.anandachico.org
SUMMARY:Lessons in Meditation\, Class 6
DESCRIPTION:
URL:https://www.anandachico.org/event/lessons-in-meditation-class-6/
END:VEVENT
BEGIN:VEVENT
DTSTART;TZID=America/Los_Angeles:20250710T120000
DTEND;TZID=America/Los_Angeles:20250710T130000
DTSTAMP:20260423T231120
CREATED:20250701T031056Z
LAST-MODIFIED:20250701T031056Z
UID:7506-1752148800-1752152400@www.anandachico.org
SUMMARY:Group Meditation
DESCRIPTION:
URL:https://www.anandachico.org/event/group-meditation-115/
END:VEVENT
BEGIN:VEVENT
DTSTART;TZID=America/Los_Angeles:20250714T120000
DTEND;TZID=America/Los_Angeles:20250714T130000
DTSTAMP:20260423T231120
CREATED:20250701T031609Z
LAST-MODIFIED:20250701T031609Z
UID:7512-1752494400-1752498000@www.anandachico.org
SUMMARY:Group Meditation
DESCRIPTION:
URL:https://www.anandachico.org/event/group-meditation-116/
END:VEVENT
BEGIN:VEVENT
DTSTART;TZID=America/Los_Angeles:20250714T170000
DTEND;TZID=America/Los_Angeles:20250714T180000
DTSTAMP:20260423T231120
CREATED:20250701T031742Z
LAST-MODIFIED:20250701T031742Z
UID:7514-1752512400-1752516000@www.anandachico.org
SUMMARY:Ananda Yoga
DESCRIPTION:
URL:https://www.anandachico.org/event/ananda-yoga-324/
END:VEVENT
BEGIN:VEVENT
DTSTART;TZID=America/Los_Angeles:20250716T140000
DTEND;TZID=America/Los_Angeles:20250716T153000
DTSTAMP:20260423T231120
CREATED:20250701T031255Z
LAST-MODIFIED:20250701T031417Z
UID:7510-1752674400-1752679800@www.anandachico.org
SUMMARY:Lessons in Meditation\, Class 7
DESCRIPTION:
URL:https://www.anandachico.org/event/lessons-in-meditation-class-7/
END:VEVENT
BEGIN:VEVENT
DTSTART;TZID=America/Los_Angeles:20250717T120000
DTEND;TZID=America/Los_Angeles:20250717T130000
DTSTAMP:20260423T231120
CREATED:20250701T031918Z
LAST-MODIFIED:20250701T031918Z
UID:7516-1752753600-1752757200@www.anandachico.org
SUMMARY:Group Meditation
DESCRIPTION:
URL:https://www.anandachico.org/event/group-meditation-117/
END:VEVENT
BEGIN:VEVENT
DTSTART;TZID=America/Los_Angeles:20250720T140000
DTEND;TZID=America/Los_Angeles:20250720T160000
DTSTAMP:20260423T231120
CREATED:20250715T222140Z
LAST-MODIFIED:20250715T222140Z
UID:7535-1753020000-1753027200@www.anandachico.org
SUMMARY:Restorative Yoga to Awaken the Chakras
DESCRIPTION:
URL:https://www.anandachico.org/event/restorative-yoga-to-awaken-the-chakras-2/
END:VEVENT
BEGIN:VEVENT
DTSTART;TZID=America/Los_Angeles:20250721T120000
DTEND;TZID=America/Los_Angeles:20250721T130000
DTSTAMP:20260423T231120
CREATED:20250701T032545Z
LAST-MODIFIED:20250701T032545Z
UID:7522-1753099200-1753102800@www.anandachico.org
SUMMARY:Group Meditation
DESCRIPTION:
URL:https://www.anandachico.org/event/group-meditation-119/
END:VEVENT
BEGIN:VEVENT
DTSTART;TZID=America/Los_Angeles:20250721T170000
DTEND;TZID=America/Los_Angeles:20250721T180000
DTSTAMP:20260423T231120
CREATED:20250701T032736Z
LAST-MODIFIED:20250701T032736Z
UID:7524-1753117200-1753120800@www.anandachico.org
SUMMARY:Ananda Yoga
DESCRIPTION:
URL:https://www.anandachico.org/event/ananda-yoga-325/
END:VEVENT
BEGIN:VEVENT
DTSTART;TZID=America/Los_Angeles:20250722T183000
DTEND;TZID=America/Los_Angeles:20250722T193000
DTSTAMP:20260423T231120
CREATED:20250719T175709Z
LAST-MODIFIED:20250719T175709Z
UID:7537-1753209000-1753212600@www.anandachico.org
SUMMARY:Learn to Meditate Class
DESCRIPTION:
URL:https://www.anandachico.org/event/learn-to-meditate-class-10/
END:VEVENT
BEGIN:VEVENT
DTSTART;TZID=America/Los_Angeles:20250723T140000
DTEND;TZID=America/Los_Angeles:20250723T153000
DTSTAMP:20260423T231120
CREATED:20250701T032211Z
LAST-MODIFIED:20250701T032211Z
UID:7518-1753279200-1753284600@www.anandachico.org
SUMMARY:Lessons in Meditation\, Class 8
DESCRIPTION:
URL:https://www.anandachico.org/event/lessons-in-meditation-class-8/
END:VEVENT
BEGIN:VEVENT
DTSTART;TZID=America/Los_Angeles:20250724T120000
DTEND;TZID=America/Los_Angeles:20250724T130000
DTSTAMP:20260423T231120
CREATED:20250701T032348Z
LAST-MODIFIED:20250701T032348Z
UID:7520-1753358400-1753362000@www.anandachico.org
SUMMARY:Group Meditation
DESCRIPTION:
URL:https://www.anandachico.org/event/group-meditation-118/
END:VEVENT
BEGIN:VEVENT
DTSTART;TZID=America/Los_Angeles:20250726T140000
DTEND;TZID=America/Los_Angeles:20250726T160000
DTSTAMP:20260423T231120
CREATED:20250719T175827Z
LAST-MODIFIED:20250719T175827Z
UID:7539-1753538400-1753545600@www.anandachico.org
SUMMARY:Learn to Meditate Class
DESCRIPTION:
URL:https://www.anandachico.org/event/learn-to-meditate-class-11/
END:VEVENT
BEGIN:VEVENT
DTSTART;TZID=America/Los_Angeles:20250728T120000
DTEND;TZID=America/Los_Angeles:20250728T130000
DTSTAMP:20260423T231120
CREATED:20250701T033614Z
LAST-MODIFIED:20250701T033614Z
UID:7526-1753704000-1753707600@www.anandachico.org
SUMMARY:Group Meditation
DESCRIPTION:
URL:https://www.anandachico.org/event/group-meditation-120/
END:VEVENT
BEGIN:VEVENT
DTSTART;TZID=America/Los_Angeles:20250728T170000
DTEND;TZID=America/Los_Angeles:20250728T180000
DTSTAMP:20260423T231120
CREATED:20250701T033746Z
LAST-MODIFIED:20250701T033746Z
UID:7528-1753722000-1753725600@www.anandachico.org
SUMMARY:Ananda Yoga
DESCRIPTION:
URL:https://www.anandachico.org/event/ananda-yoga-326/
END:VEVENT
BEGIN:VEVENT
DTSTART;TZID=America/Los_Angeles:20250730T140000
DTEND;TZID=America/Los_Angeles:20250730T150000
DTSTAMP:20260423T231120
CREATED:20250719T180344Z
LAST-MODIFIED:20250719T180344Z
UID:7545-1753884000-1753887600@www.anandachico.org
SUMMARY:FREE Introduction to the Raja Yoga Class Series!
DESCRIPTION:Choose to attend the afternoon session from 2-3 pm or the evening session from 7-8 pm.
URL:https://www.anandachico.org/event/free-introduction-to-the-raja-yoga-class-series/
END:VEVENT
BEGIN:VEVENT
DTSTART;TZID=America/Los_Angeles:20250730T190000
DTEND;TZID=America/Los_Angeles:20250730T200000
DTSTAMP:20260423T231120
CREATED:20250719T180551Z
LAST-MODIFIED:20250719T180551Z
UID:7547-1753902000-1753905600@www.anandachico.org
SUMMARY:FREE Introduction to the Raja Yoga Class Series!
DESCRIPTION:Choose to attend the afternoon session from 2-3 pm or the evening session from 7-8 pm.
URL:https://www.anandachico.org/event/free-introduction-to-the-raja-yoga-class-series-2/
END:VEVENT
BEGIN:VEVENT
DTSTART;TZID=America/Los_Angeles:20250731T120000
DTEND;TZID=America/Los_Angeles:20250731T130000
DTSTAMP:20260423T231120
CREATED:20250701T034046Z
LAST-MODIFIED:20250701T034046Z
UID:7530-1753963200-1753966800@www.anandachico.org
SUMMARY:Group Meditation
DESCRIPTION:
URL:https://www.anandachico.org/event/group-meditation-121/
END:VEVENT
END:VCALENDAR