BEGIN:VCALENDAR
VERSION:2.0
PRODID:-//Ananda Chico Meditation Center - ECPv6.15.1.1//NONSGML v1.0//EN
CALSCALE:GREGORIAN
METHOD:PUBLISH
X-ORIGINAL-URL:https://www.anandachico.org
X-WR-CALDESC:Events for Ananda Chico Meditation Center
REFRESH-INTERVAL;VALUE=DURATION:PT1H
X-Robots-Tag:noindex
X-PUBLISHED-TTL:PT1H
BEGIN:VTIMEZONE
TZID:UTC
BEGIN:STANDARD
TZOFFSETFROM:+0000
TZOFFSETTO:+0000
TZNAME:UTC
DTSTART:20240101T000000
END:STANDARD
END:VTIMEZONE
BEGIN:VEVENT
DTSTART;TZID=UTC:20240902T103000
DTEND;TZID=UTC:20240902T114500
DTSTAMP:20260424T170324
CREATED:20240908T015211Z
LAST-MODIFIED:20240908T015211Z
UID:7012-1725273000-1725277500@www.anandachico.org
SUMMARY:Ananda Yoga
DESCRIPTION:
URL:https://www.anandachico.org/event/ananda-yoga-296/
END:VEVENT
BEGIN:VEVENT
DTSTART;TZID=UTC:20240902T120000
DTEND;TZID=UTC:20240902T130000
DTSTAMP:20260424T170324
CREATED:20240908T015043Z
LAST-MODIFIED:20240908T015043Z
UID:7002-1725278400-1725282000@www.anandachico.org
SUMMARY:Group Meditation
DESCRIPTION:
URL:https://www.anandachico.org/event/group-meditation-39/
END:VEVENT
BEGIN:VEVENT
DTSTART;TZID=UTC:20240904T180000
DTEND;TZID=UTC:20240904T190000
DTSTAMP:20260424T170324
CREATED:20240908T015529Z
LAST-MODIFIED:20240908T015529Z
UID:7028-1725472800-1725476400@www.anandachico.org
SUMMARY:Group Meditation
DESCRIPTION:
URL:https://www.anandachico.org/event/group-meditation-41/
END:VEVENT
BEGIN:VEVENT
DTSTART;TZID=UTC:20240905T120000
DTEND;TZID=UTC:20240905T130000
DTSTAMP:20260424T170324
CREATED:20240908T015417Z
LAST-MODIFIED:20240908T015417Z
UID:7018-1725537600-1725541200@www.anandachico.org
SUMMARY:Group Meditation
DESCRIPTION:
URL:https://www.anandachico.org/event/group-meditation-40/
END:VEVENT
BEGIN:VEVENT
DTSTART;TZID=UTC:20240905T190000
DTEND;TZID=UTC:20240905T210000
DTSTAMP:20260424T170324
CREATED:20240908T015924Z
LAST-MODIFIED:20240908T015924Z
UID:7040-1725562800-1725570000@www.anandachico.org
SUMMARY:Kriya Prep II\, Class 6
DESCRIPTION:
URL:https://www.anandachico.org/event/kriya-prep-ii-class-6-2/
END:VEVENT
BEGIN:VEVENT
DTSTART;TZID=UTC:20240908T140000
DTEND;TZID=UTC:20240908T160000
DTSTAMP:20260424T170324
CREATED:20240908T020411Z
LAST-MODIFIED:20240908T020411Z
UID:7044-1725804000-1725811200@www.anandachico.org
SUMMARY:Kriya Prep I\, Lessons In Discipleship\, Class 1
DESCRIPTION:
URL:https://www.anandachico.org/event/kriya-prep-i-lessons-in-discipleship-class-1/
END:VEVENT
BEGIN:VEVENT
DTSTART;TZID=UTC:20240909T103000
DTEND;TZID=UTC:20240909T114500
DTSTAMP:20260424T170324
CREATED:20240908T015211Z
LAST-MODIFIED:20240908T015211Z
UID:7013-1725877800-1725882300@www.anandachico.org
SUMMARY:Ananda Yoga
DESCRIPTION:
URL:https://www.anandachico.org/event/ananda-yoga-296-2024-09-09/
END:VEVENT
BEGIN:VEVENT
DTSTART;TZID=UTC:20240909T120000
DTEND;TZID=UTC:20240909T130000
DTSTAMP:20260424T170324
CREATED:20240908T015043Z
LAST-MODIFIED:20240908T015043Z
UID:7003-1725883200-1725886800@www.anandachico.org
SUMMARY:Group Meditation
DESCRIPTION:
URL:https://www.anandachico.org/event/group-meditation-39-2024-09-09/
END:VEVENT
BEGIN:VEVENT
DTSTART;TZID=UTC:20240911T180000
DTEND;TZID=UTC:20240911T190000
DTSTAMP:20260424T170324
CREATED:20240908T015529Z
LAST-MODIFIED:20240908T015529Z
UID:7029-1726077600-1726081200@www.anandachico.org
SUMMARY:Group Meditation
DESCRIPTION:
URL:https://www.anandachico.org/event/group-meditation-41-2024-09-11/
END:VEVENT
BEGIN:VEVENT
DTSTART;TZID=UTC:20240912T120000
DTEND;TZID=UTC:20240912T130000
DTSTAMP:20260424T170324
CREATED:20240908T015417Z
LAST-MODIFIED:20240908T015417Z
UID:7019-1726142400-1726146000@www.anandachico.org
SUMMARY:Group Meditation
DESCRIPTION:
URL:https://www.anandachico.org/event/group-meditation-40-2024-09-12/
END:VEVENT
BEGIN:VEVENT
DTSTART;TZID=UTC:20240915T120000
DTEND;TZID=UTC:20240915T160000
DTSTAMP:20260424T170324
CREATED:20240908T015643Z
LAST-MODIFIED:20240908T020141Z
UID:7038-1726401600-1726416000@www.anandachico.org
SUMMARY:Ananda Chico Booth at Touch of Chico!
DESCRIPTION:Visit us at this special community event at the Nature Center in Bidwell Park!
URL:https://www.anandachico.org/event/ananda-chico-at-touch-of-chico-2/
END:VEVENT
BEGIN:VEVENT
DTSTART;TZID=UTC:20240916T103000
DTEND;TZID=UTC:20240916T114500
DTSTAMP:20260424T170324
CREATED:20240908T015211Z
LAST-MODIFIED:20240908T015211Z
UID:7014-1726482600-1726487100@www.anandachico.org
SUMMARY:Ananda Yoga
DESCRIPTION:
URL:https://www.anandachico.org/event/ananda-yoga-296-2024-09-16/
END:VEVENT
BEGIN:VEVENT
DTSTART;TZID=UTC:20240916T120000
DTEND;TZID=UTC:20240916T130000
DTSTAMP:20260424T170324
CREATED:20240908T015043Z
LAST-MODIFIED:20240908T015043Z
UID:7004-1726488000-1726491600@www.anandachico.org
SUMMARY:Group Meditation
DESCRIPTION:
URL:https://www.anandachico.org/event/group-meditation-39-2024-09-16/
END:VEVENT
BEGIN:VEVENT
DTSTART;TZID=UTC:20240918T180000
DTEND;TZID=UTC:20240918T190000
DTSTAMP:20260424T170324
CREATED:20240908T015529Z
LAST-MODIFIED:20240908T015529Z
UID:7030-1726682400-1726686000@www.anandachico.org
SUMMARY:Group Meditation
DESCRIPTION:
URL:https://www.anandachico.org/event/group-meditation-41-2024-09-18/
END:VEVENT
BEGIN:VEVENT
DTSTART;TZID=UTC:20240919T120000
DTEND;TZID=UTC:20240919T130000
DTSTAMP:20260424T170324
CREATED:20240908T015417Z
LAST-MODIFIED:20240908T015417Z
UID:7020-1726747200-1726750800@www.anandachico.org
SUMMARY:Group Meditation
DESCRIPTION:
URL:https://www.anandachico.org/event/group-meditation-40-2024-09-19/
END:VEVENT
BEGIN:VEVENT
DTSTART;TZID=UTC:20240922T150000
DTEND;TZID=UTC:20240922T160000
DTSTAMP:20260424T170324
CREATED:20240919T233516Z
LAST-MODIFIED:20240919T233550Z
UID:7047-1727017200-1727020800@www.anandachico.org
SUMMARY:Chair Yoga
DESCRIPTION:
URL:https://www.anandachico.org/event/chair-yoga/
END:VEVENT
BEGIN:VEVENT
DTSTART;TZID=UTC:20240923T103000
DTEND;TZID=UTC:20240923T114500
DTSTAMP:20260424T170324
CREATED:20240908T015211Z
LAST-MODIFIED:20240908T015211Z
UID:7015-1727087400-1727091900@www.anandachico.org
SUMMARY:Ananda Yoga
DESCRIPTION:
URL:https://www.anandachico.org/event/ananda-yoga-296-2024-09-23/
END:VEVENT
BEGIN:VEVENT
DTSTART;TZID=UTC:20240923T120000
DTEND;TZID=UTC:20240923T130000
DTSTAMP:20260424T170324
CREATED:20240908T015043Z
LAST-MODIFIED:20240908T015043Z
UID:7005-1727092800-1727096400@www.anandachico.org
SUMMARY:Group Meditation
DESCRIPTION:
URL:https://www.anandachico.org/event/group-meditation-39-2024-09-23/
END:VEVENT
BEGIN:VEVENT
DTSTART;TZID=UTC:20240923T170000
DTEND;TZID=UTC:20240923T180000
DTSTAMP:20260424T170324
CREATED:20240919T234154Z
LAST-MODIFIED:20240919T234154Z
UID:7060-1727110800-1727114400@www.anandachico.org
SUMMARY:Ananda Yoga
DESCRIPTION:
URL:https://www.anandachico.org/event/ananda-yoga-297/
END:VEVENT
BEGIN:VEVENT
DTSTART;TZID=UTC:20240925T180000
DTEND;TZID=UTC:20240925T190000
DTSTAMP:20260424T170324
CREATED:20240908T015529Z
LAST-MODIFIED:20240908T015529Z
UID:7031-1727287200-1727290800@www.anandachico.org
SUMMARY:Group Meditation
DESCRIPTION:
URL:https://www.anandachico.org/event/group-meditation-41-2024-09-25/
END:VEVENT
BEGIN:VEVENT
DTSTART;TZID=UTC:20240926T120000
DTEND;TZID=UTC:20240926T130000
DTSTAMP:20260424T170324
CREATED:20240908T015417Z
LAST-MODIFIED:20240908T015417Z
UID:7021-1727352000-1727355600@www.anandachico.org
SUMMARY:Group Meditation
DESCRIPTION:
URL:https://www.anandachico.org/event/group-meditation-40-2024-09-26/
END:VEVENT
BEGIN:VEVENT
DTSTART;TZID=UTC:20240929T150000
DTEND;TZID=UTC:20240929T160000
DTSTAMP:20260424T170324
CREATED:20240919T233859Z
LAST-MODIFIED:20240919T233859Z
UID:7054-1727622000-1727625600@www.anandachico.org
SUMMARY:Chair Yoga
DESCRIPTION:
URL:https://www.anandachico.org/event/chair-yoga-2/
END:VEVENT
BEGIN:VEVENT
DTSTART;TZID=UTC:20240930T103000
DTEND;TZID=UTC:20240930T114500
DTSTAMP:20260424T170324
CREATED:20240908T015211Z
LAST-MODIFIED:20240908T015211Z
UID:7016-1727692200-1727696700@www.anandachico.org
SUMMARY:Ananda Yoga
DESCRIPTION:
URL:https://www.anandachico.org/event/ananda-yoga-296-2024-09-30/
END:VEVENT
BEGIN:VEVENT
DTSTART;TZID=UTC:20240930T120000
DTEND;TZID=UTC:20240930T130000
DTSTAMP:20260424T170324
CREATED:20240908T015043Z
LAST-MODIFIED:20240908T015043Z
UID:7006-1727697600-1727701200@www.anandachico.org
SUMMARY:Group Meditation
DESCRIPTION:
URL:https://www.anandachico.org/event/group-meditation-39-2024-09-30/
END:VEVENT
BEGIN:VEVENT
DTSTART;TZID=UTC:20240930T170000
DTEND;TZID=UTC:20240930T180000
DTSTAMP:20260424T170324
CREATED:20240919T234154Z
LAST-MODIFIED:20240919T234154Z
UID:7061-1727715600-1727719200@www.anandachico.org
SUMMARY:Ananda Yoga
DESCRIPTION:
URL:https://www.anandachico.org/event/ananda-yoga-297-2024-09-30/
END:VEVENT
END:VCALENDAR