BEGIN:VCALENDAR
VERSION:2.0
PRODID:-//Ananda Chico Meditation Center - ECPv6.15.1.1//NONSGML v1.0//EN
CALSCALE:GREGORIAN
METHOD:PUBLISH
X-ORIGINAL-URL:https://www.anandachico.org
X-WR-CALDESC:Events for Ananda Chico Meditation Center
REFRESH-INTERVAL;VALUE=DURATION:PT1H
X-Robots-Tag:noindex
X-PUBLISHED-TTL:PT1H
BEGIN:VTIMEZONE
TZID:UTC
BEGIN:STANDARD
TZOFFSETFROM:+0000
TZOFFSETTO:+0000
TZNAME:UTC
DTSTART:20240101T000000
END:STANDARD
END:VTIMEZONE
BEGIN:VEVENT
DTSTART;TZID=UTC:20240801T120000
DTEND;TZID=UTC:20240801T130000
DTSTAMP:20260424T190750
CREATED:20240813T034946Z
LAST-MODIFIED:20240813T035056Z
UID:6972-1722513600-1722517200@www.anandachico.org
SUMMARY:Group Meditation
DESCRIPTION:
URL:https://www.anandachico.org/event/group-meditation-36/
END:VEVENT
BEGIN:VEVENT
DTSTART;TZID=UTC:20240805T104500
DTEND;TZID=UTC:20240805T114500
DTSTAMP:20260424T190750
CREATED:20240813T035353Z
LAST-MODIFIED:20240813T035353Z
UID:6986-1722854700-1722858300@www.anandachico.org
SUMMARY:Ananda Yoga
DESCRIPTION:
URL:https://www.anandachico.org/event/ananda-yoga-295/
END:VEVENT
BEGIN:VEVENT
DTSTART;TZID=UTC:20240805T120000
DTEND;TZID=UTC:20240805T130000
DTSTAMP:20260424T190750
CREATED:20240813T035233Z
LAST-MODIFIED:20240813T035233Z
UID:6981-1722859200-1722862800@www.anandachico.org
SUMMARY:Group Meditation
DESCRIPTION:
URL:https://www.anandachico.org/event/group-meditation-37/
END:VEVENT
BEGIN:VEVENT
DTSTART;TZID=UTC:20240807T180000
DTEND;TZID=UTC:20240807T190000
DTSTAMP:20260424T190750
CREATED:20240813T035509Z
LAST-MODIFIED:20240813T035509Z
UID:6991-1723053600-1723057200@www.anandachico.org
SUMMARY:Group Meditation
DESCRIPTION:
URL:https://www.anandachico.org/event/group-meditation-38/
END:VEVENT
BEGIN:VEVENT
DTSTART;TZID=UTC:20240808T120000
DTEND;TZID=UTC:20240808T130000
DTSTAMP:20260424T190750
CREATED:20240813T034946Z
LAST-MODIFIED:20240813T034946Z
UID:6977-1723118400-1723122000@www.anandachico.org
SUMMARY:Group Meditation
DESCRIPTION:
URL:https://www.anandachico.org/event/group-meditation-36-2024-08-08/
END:VEVENT
BEGIN:VEVENT
DTSTART;TZID=UTC:20240812T104500
DTEND;TZID=UTC:20240812T114500
DTSTAMP:20260424T190750
CREATED:20240813T035353Z
LAST-MODIFIED:20240813T035353Z
UID:6987-1723459500-1723463100@www.anandachico.org
SUMMARY:Ananda Yoga
DESCRIPTION:
URL:https://www.anandachico.org/event/ananda-yoga-295-2024-08-12/
END:VEVENT
BEGIN:VEVENT
DTSTART;TZID=UTC:20240812T120000
DTEND;TZID=UTC:20240812T130000
DTSTAMP:20260424T190750
CREATED:20240813T035233Z
LAST-MODIFIED:20240813T035233Z
UID:6982-1723464000-1723467600@www.anandachico.org
SUMMARY:Group Meditation
DESCRIPTION:
URL:https://www.anandachico.org/event/group-meditation-37-2024-08-12/
END:VEVENT
BEGIN:VEVENT
DTSTART;TZID=UTC:20240814T180000
DTEND;TZID=UTC:20240814T190000
DTSTAMP:20260424T190750
CREATED:20240813T035509Z
LAST-MODIFIED:20240813T035509Z
UID:6992-1723658400-1723662000@www.anandachico.org
SUMMARY:Group Meditation
DESCRIPTION:
URL:https://www.anandachico.org/event/group-meditation-38-2024-08-14/
END:VEVENT
BEGIN:VEVENT
DTSTART;TZID=UTC:20240815T120000
DTEND;TZID=UTC:20240815T130000
DTSTAMP:20260424T190750
CREATED:20240813T034946Z
LAST-MODIFIED:20240813T034946Z
UID:6978-1723723200-1723726800@www.anandachico.org
SUMMARY:Group Meditation
DESCRIPTION:
URL:https://www.anandachico.org/event/group-meditation-36-2024-08-15/
END:VEVENT
BEGIN:VEVENT
DTSTART;TZID=UTC:20240815T190000
DTEND;TZID=UTC:20240815T210000
DTSTAMP:20260424T190750
CREATED:20240813T035620Z
LAST-MODIFIED:20240813T035620Z
UID:6996-1723748400-1723755600@www.anandachico.org
SUMMARY:Kriya Prep II\, Class 5
DESCRIPTION:
URL:https://www.anandachico.org/event/kriya-prep-ii-class-5/
END:VEVENT
BEGIN:VEVENT
DTSTART;TZID=UTC:20240819T104500
DTEND;TZID=UTC:20240819T114500
DTSTAMP:20260424T190750
CREATED:20240813T035353Z
LAST-MODIFIED:20240813T035353Z
UID:6988-1724064300-1724067900@www.anandachico.org
SUMMARY:Ananda Yoga
DESCRIPTION:
URL:https://www.anandachico.org/event/ananda-yoga-295-2024-08-19/
END:VEVENT
BEGIN:VEVENT
DTSTART;TZID=UTC:20240819T120000
DTEND;TZID=UTC:20240819T130000
DTSTAMP:20260424T190750
CREATED:20240813T035233Z
LAST-MODIFIED:20240813T035233Z
UID:6983-1724068800-1724072400@www.anandachico.org
SUMMARY:Group Meditation
DESCRIPTION:
URL:https://www.anandachico.org/event/group-meditation-37-2024-08-19/
END:VEVENT
BEGIN:VEVENT
DTSTART;TZID=UTC:20240821T180000
DTEND;TZID=UTC:20240821T190000
DTSTAMP:20260424T190750
CREATED:20240813T035509Z
LAST-MODIFIED:20240813T035509Z
UID:6993-1724263200-1724266800@www.anandachico.org
SUMMARY:Group Meditation
DESCRIPTION:
URL:https://www.anandachico.org/event/group-meditation-38-2024-08-21/
END:VEVENT
BEGIN:VEVENT
DTSTART;TZID=UTC:20240822T120000
DTEND;TZID=UTC:20240822T130000
DTSTAMP:20260424T190750
CREATED:20240813T034946Z
LAST-MODIFIED:20240813T034946Z
UID:6979-1724328000-1724331600@www.anandachico.org
SUMMARY:Group Meditation
DESCRIPTION:
URL:https://www.anandachico.org/event/group-meditation-36-2024-08-22/
END:VEVENT
BEGIN:VEVENT
DTSTART;TZID=UTC:20240826T104500
DTEND;TZID=UTC:20240826T114500
DTSTAMP:20260424T190750
CREATED:20240813T035353Z
LAST-MODIFIED:20240813T035353Z
UID:6989-1724669100-1724672700@www.anandachico.org
SUMMARY:Ananda Yoga
DESCRIPTION:
URL:https://www.anandachico.org/event/ananda-yoga-295-2024-08-26/
END:VEVENT
BEGIN:VEVENT
DTSTART;TZID=UTC:20240826T120000
DTEND;TZID=UTC:20240826T130000
DTSTAMP:20260424T190750
CREATED:20240813T035233Z
LAST-MODIFIED:20240813T035233Z
UID:6984-1724673600-1724677200@www.anandachico.org
SUMMARY:Group Meditation
DESCRIPTION:
URL:https://www.anandachico.org/event/group-meditation-37-2024-08-26/
END:VEVENT
BEGIN:VEVENT
DTSTART;TZID=UTC:20240828T180000
DTEND;TZID=UTC:20240828T190000
DTSTAMP:20260424T190750
CREATED:20240813T035509Z
LAST-MODIFIED:20240813T035509Z
UID:6994-1724868000-1724871600@www.anandachico.org
SUMMARY:Group Meditation
DESCRIPTION:
URL:https://www.anandachico.org/event/group-meditation-38-2024-08-28/
END:VEVENT
BEGIN:VEVENT
DTSTART;TZID=UTC:20240829T120000
DTEND;TZID=UTC:20240829T130000
DTSTAMP:20260424T190750
CREATED:20240813T034946Z
LAST-MODIFIED:20240813T034946Z
UID:6980-1724932800-1724936400@www.anandachico.org
SUMMARY:Group Meditation
DESCRIPTION:
URL:https://www.anandachico.org/event/group-meditation-36-2024-08-29/
END:VEVENT
BEGIN:VEVENT
DTSTART;TZID=UTC:20240829T190000
DTEND;TZID=UTC:20240829T210000
DTSTAMP:20260424T190750
CREATED:20240813T035733Z
LAST-MODIFIED:20240813T035733Z
UID:6998-1724958000-1724965200@www.anandachico.org
SUMMARY:Kriya Prep II\, Class 6
DESCRIPTION:
URL:https://www.anandachico.org/event/kriya-prep-ii-class-6/
END:VEVENT
END:VCALENDAR