BEGIN:VCALENDAR
VERSION:2.0
PRODID:-//Ananda Chico Meditation Center - ECPv6.15.1.1//NONSGML v1.0//EN
CALSCALE:GREGORIAN
METHOD:PUBLISH
X-WR-CALNAME:Ananda Chico Meditation Center
X-ORIGINAL-URL:https://www.anandachico.org
X-WR-CALDESC:Events for Ananda Chico Meditation Center
REFRESH-INTERVAL;VALUE=DURATION:PT1H
X-Robots-Tag:noindex
X-PUBLISHED-TTL:PT1H
BEGIN:VTIMEZONE
TZID:UTC
BEGIN:STANDARD
TZOFFSETFROM:+0000
TZOFFSETTO:+0000
TZNAME:UTC
DTSTART:20240101T000000
END:STANDARD
END:VTIMEZONE
BEGIN:VEVENT
DTSTART;TZID=UTC:20240303T100000
DTEND;TZID=UTC:20240303T103000
DTSTAMP:20260425T034301
CREATED:20240301T080038Z
LAST-MODIFIED:20240301T080038Z
UID:6811-1709460000-1709461800@www.anandachico.org
SUMMARY:Meditation & Purification Ceremony
DESCRIPTION:
URL:https://www.anandachico.org/event/meditation-purification-ceremony-13/
END:VEVENT
BEGIN:VEVENT
DTSTART;TZID=UTC:20240303T103000
DTEND;TZID=UTC:20240303T113000
DTSTAMP:20260425T034301
CREATED:20240301T080138Z
LAST-MODIFIED:20240301T080138Z
UID:6813-1709461800-1709465400@www.anandachico.org
SUMMARY:Sunday Service
DESCRIPTION:
URL:https://www.anandachico.org/event/sunday-service-139/
END:VEVENT
BEGIN:VEVENT
DTSTART;TZID=UTC:20240304T104500
DTEND;TZID=UTC:20240304T114500
DTSTAMP:20260425T034301
CREATED:20240301T075416Z
LAST-MODIFIED:20240301T075416Z
UID:6801-1709549100-1709552700@www.anandachico.org
SUMMARY:Ananda Yoga
DESCRIPTION:
URL:https://www.anandachico.org/event/ananda-yoga-286/
END:VEVENT
BEGIN:VEVENT
DTSTART;TZID=UTC:20240304T120000
DTEND;TZID=UTC:20240304T130000
DTSTAMP:20260425T034301
CREATED:20240301T075139Z
LAST-MODIFIED:20240301T075139Z
UID:6791-1709553600-1709557200@www.anandachico.org
SUMMARY:Group Meditation
DESCRIPTION:
URL:https://www.anandachico.org/event/group-meditation-25/
END:VEVENT
BEGIN:VEVENT
DTSTART;TZID=UTC:20240307T104500
DTEND;TZID=UTC:20240307T114500
DTSTAMP:20260425T034301
CREATED:20240301T075841Z
LAST-MODIFIED:20240301T075841Z
UID:6808-1709808300-1709811900@www.anandachico.org
SUMMARY:Ananda Yoga
DESCRIPTION:
URL:https://www.anandachico.org/event/ananda-yoga-289/
END:VEVENT
BEGIN:VEVENT
DTSTART;TZID=UTC:20240307T120000
DTEND;TZID=UTC:20240307T130000
DTSTAMP:20260425T034301
CREATED:20240301T075251Z
LAST-MODIFIED:20240301T075251Z
UID:6796-1709812800-1709816400@www.anandachico.org
SUMMARY:Group Meditation
DESCRIPTION:
URL:https://www.anandachico.org/event/group-meditation-26/
END:VEVENT
BEGIN:VEVENT
DTSTART;TZID=UTC:20240307T173000
DTEND;TZID=UTC:20240307T183000
DTSTAMP:20260425T034301
CREATED:20240127T112156Z
LAST-MODIFIED:20240301T073843Z
UID:6760-1709832600-1709836200@www.anandachico.org
SUMMARY:Ananda Yoga
DESCRIPTION:
URL:https://www.anandachico.org/event/ananda-yoga-281-2024-02-29/
END:VEVENT
BEGIN:VEVENT
DTSTART;TZID=UTC:20240307T190000
DTEND;TZID=UTC:20240307T203000
DTSTAMP:20260425T034301
CREATED:20240311T035905Z
LAST-MODIFIED:20240311T035905Z
UID:6828-1709838000-1709843400@www.anandachico.org
SUMMARY:Kriya Prep I\, Class 3
DESCRIPTION:
URL:https://www.anandachico.org/event/kriya-prep-i-class-3/
END:VEVENT
BEGIN:VEVENT
DTSTART;TZID=UTC:20240311T104500
DTEND;TZID=UTC:20240311T114500
DTSTAMP:20260425T034301
CREATED:20240301T075416Z
LAST-MODIFIED:20240301T075416Z
UID:6802-1710153900-1710157500@www.anandachico.org
SUMMARY:Ananda Yoga
DESCRIPTION:
URL:https://www.anandachico.org/event/ananda-yoga-286-2024-03-11/
END:VEVENT
BEGIN:VEVENT
DTSTART;TZID=UTC:20240311T120000
DTEND;TZID=UTC:20240311T130000
DTSTAMP:20260425T034301
CREATED:20240301T075139Z
LAST-MODIFIED:20240301T075139Z
UID:6792-1710158400-1710162000@www.anandachico.org
SUMMARY:Group Meditation
DESCRIPTION:
URL:https://www.anandachico.org/event/group-meditation-25-2024-03-11/
END:VEVENT
BEGIN:VEVENT
DTSTART;TZID=UTC:20240312T180000
DTEND;TZID=UTC:20240312T193000
DTSTAMP:20260425T034301
CREATED:20240311T035317Z
LAST-MODIFIED:20240311T035317Z
UID:6816-1710266400-1710271800@www.anandachico.org
SUMMARY:Learn to Meditate\, Class 4
DESCRIPTION:
URL:https://www.anandachico.org/event/learn-to-meditate-class-4-6/
END:VEVENT
BEGIN:VEVENT
DTSTART;TZID=UTC:20240313T190000
DTEND;TZID=UTC:20240313T203000
DTSTAMP:20260425T034301
CREATED:20240311T035514Z
LAST-MODIFIED:20240311T035514Z
UID:6820-1710356400-1710361800@www.anandachico.org
SUMMARY:Learn to Meditate\, Class 1
DESCRIPTION:
URL:https://www.anandachico.org/event/learn-to-meditate-class-1-67/
END:VEVENT
BEGIN:VEVENT
DTSTART;TZID=UTC:20240314T104500
DTEND;TZID=UTC:20240314T114500
DTSTAMP:20260425T034301
CREATED:20240301T075841Z
LAST-MODIFIED:20240301T075841Z
UID:6809-1710413100-1710416700@www.anandachico.org
SUMMARY:Ananda Yoga
DESCRIPTION:
URL:https://www.anandachico.org/event/ananda-yoga-289-2024-03-14/
END:VEVENT
BEGIN:VEVENT
DTSTART;TZID=UTC:20240314T120000
DTEND;TZID=UTC:20240314T130000
DTSTAMP:20260425T034301
CREATED:20240301T075251Z
LAST-MODIFIED:20240301T075251Z
UID:6797-1710417600-1710421200@www.anandachico.org
SUMMARY:Group Meditation
DESCRIPTION:
URL:https://www.anandachico.org/event/group-meditation-26-2024-03-14/
END:VEVENT
BEGIN:VEVENT
DTSTART;TZID=UTC:20240314T173000
DTEND;TZID=UTC:20240314T183000
DTSTAMP:20260425T034301
CREATED:20240301T074003Z
LAST-MODIFIED:20240301T074003Z
UID:6775-1710437400-1710441000@www.anandachico.org
SUMMARY:Ananda Yoga
DESCRIPTION:
URL:https://www.anandachico.org/event/ananda-yoga-283/
END:VEVENT
BEGIN:VEVENT
DTSTART;TZID=UTC:20240317T100000
DTEND;TZID=UTC:20240317T103000
DTSTAMP:20260425T034301
CREATED:20240311T035707Z
LAST-MODIFIED:20240311T035707Z
UID:6824-1710669600-1710671400@www.anandachico.org
SUMMARY:Meditation & Purification Ceremony
DESCRIPTION:
URL:https://www.anandachico.org/event/meditation-purification-ceremony-14/
END:VEVENT
BEGIN:VEVENT
DTSTART;TZID=UTC:20240317T103000
DTEND;TZID=UTC:20240317T113000
DTSTAMP:20260425T034301
CREATED:20240311T035805Z
LAST-MODIFIED:20240311T035805Z
UID:6826-1710671400-1710675000@www.anandachico.org
SUMMARY:Sunday Service
DESCRIPTION:
URL:https://www.anandachico.org/event/sunday-service-140/
END:VEVENT
BEGIN:VEVENT
DTSTART;TZID=UTC:20240318T120000
DTEND;TZID=UTC:20240318T130000
DTSTAMP:20260425T034301
CREATED:20240301T075139Z
LAST-MODIFIED:20240301T075139Z
UID:6793-1710763200-1710766800@www.anandachico.org
SUMMARY:Group Meditation
DESCRIPTION:
URL:https://www.anandachico.org/event/group-meditation-25-2024-03-18/
END:VEVENT
BEGIN:VEVENT
DTSTART;TZID=UTC:20240320T190000
DTEND;TZID=UTC:20240320T203000
DTSTAMP:20260425T034301
CREATED:20240311T035605Z
LAST-MODIFIED:20240311T035605Z
UID:6822-1710961200-1710966600@www.anandachico.org
SUMMARY:Learn to Meditate\, Class 2
DESCRIPTION:
URL:https://www.anandachico.org/event/learn-to-meditate-class-2-71/
END:VEVENT
BEGIN:VEVENT
DTSTART;TZID=UTC:20240321T120000
DTEND;TZID=UTC:20240321T130000
DTSTAMP:20260425T034301
CREATED:20240301T075251Z
LAST-MODIFIED:20240301T075251Z
UID:6798-1711022400-1711026000@www.anandachico.org
SUMMARY:Group Meditation
DESCRIPTION:
URL:https://www.anandachico.org/event/group-meditation-26-2024-03-21/
END:VEVENT
BEGIN:VEVENT
DTSTART;TZID=UTC:20240321T190000
DTEND;TZID=UTC:20240321T203000
DTSTAMP:20260425T034301
CREATED:20240311T040005Z
LAST-MODIFIED:20240311T040005Z
UID:6830-1711047600-1711053000@www.anandachico.org
SUMMARY:Kriya Prep I\, Class 4
DESCRIPTION:
URL:https://www.anandachico.org/event/kriya-prep-i-class-4/
END:VEVENT
BEGIN:VEVENT
DTSTART;TZID=UTC:20240325T104500
DTEND;TZID=UTC:20240325T114500
DTSTAMP:20260425T034301
CREATED:20240301T075528Z
LAST-MODIFIED:20240301T075528Z
UID:6804-1711363500-1711367100@www.anandachico.org
SUMMARY:Ananda Yoga
DESCRIPTION:
URL:https://www.anandachico.org/event/ananda-yoga-287/
END:VEVENT
BEGIN:VEVENT
DTSTART;TZID=UTC:20240325T120000
DTEND;TZID=UTC:20240325T130000
DTSTAMP:20260425T034301
CREATED:20240301T075139Z
LAST-MODIFIED:20240301T075139Z
UID:6794-1711368000-1711371600@www.anandachico.org
SUMMARY:Group Meditation
DESCRIPTION:
URL:https://www.anandachico.org/event/group-meditation-25-2024-03-25/
END:VEVENT
BEGIN:VEVENT
DTSTART;TZID=UTC:20240326T180000
DTEND;TZID=UTC:20240326T193000
DTSTAMP:20260425T034301
CREATED:20240311T035417Z
LAST-MODIFIED:20240311T035417Z
UID:6818-1711476000-1711481400@www.anandachico.org
SUMMARY:Learn to Meditate\, Class 5
DESCRIPTION:
URL:https://www.anandachico.org/event/learn-to-meditate-class-5-5/
END:VEVENT
BEGIN:VEVENT
DTSTART;TZID=UTC:20240328T104500
DTEND;TZID=UTC:20240328T114500
DTSTAMP:20260425T034301
CREATED:20240301T075649Z
LAST-MODIFIED:20240301T075649Z
UID:6806-1711622700-1711626300@www.anandachico.org
SUMMARY:Ananda Yoga
DESCRIPTION:
URL:https://www.anandachico.org/event/ananda-yoga-288/
END:VEVENT
BEGIN:VEVENT
DTSTART;TZID=UTC:20240328T120000
DTEND;TZID=UTC:20240328T130000
DTSTAMP:20260425T034301
CREATED:20240301T075251Z
LAST-MODIFIED:20240301T075251Z
UID:6799-1711627200-1711630800@www.anandachico.org
SUMMARY:Group Meditation
DESCRIPTION:
URL:https://www.anandachico.org/event/group-meditation-26-2024-03-28/
END:VEVENT
BEGIN:VEVENT
DTSTART;TZID=UTC:20240328T173000
DTEND;TZID=UTC:20240328T183000
DTSTAMP:20260425T034301
CREATED:20240301T074116Z
LAST-MODIFIED:20240301T074116Z
UID:6777-1711647000-1711650600@www.anandachico.org
SUMMARY:Ananda Yoga
DESCRIPTION:
URL:https://www.anandachico.org/event/ananda-yoga-284/
END:VEVENT
BEGIN:VEVENT
DTSTART;TZID=UTC:20240401T104500
DTEND;TZID=UTC:20240401T114500
DTSTAMP:20260425T034301
CREATED:20240411T061306Z
LAST-MODIFIED:20240411T061306Z
UID:6835-1711968300-1711971900@www.anandachico.org
SUMMARY:Ananda Yoga
DESCRIPTION:
URL:https://www.anandachico.org/event/ananda-yoga-290/
END:VEVENT
END:VCALENDAR