BEGIN:VCALENDAR
VERSION:2.0
PRODID:-//Ananda Chico Meditation Center - ECPv6.15.1.1//NONSGML v1.0//EN
CALSCALE:GREGORIAN
METHOD:PUBLISH
X-ORIGINAL-URL:https://www.anandachico.org
X-WR-CALDESC:Events for Ananda Chico Meditation Center
REFRESH-INTERVAL;VALUE=DURATION:PT1H
X-Robots-Tag:noindex
X-PUBLISHED-TTL:PT1H
BEGIN:VTIMEZONE
TZID:UTC
BEGIN:STANDARD
TZOFFSETFROM:+0000
TZOFFSETTO:+0000
TZNAME:UTC
DTSTART:20230101T000000
END:STANDARD
END:VTIMEZONE
BEGIN:VEVENT
DTSTART;TZID=UTC:20231102T104500
DTEND;TZID=UTC:20231102T114500
DTSTAMP:20260425T105803
CREATED:20231006T065457Z
LAST-MODIFIED:20231006T065854Z
UID:6525-1698921900-1698925500@www.anandachico.org
SUMMARY:Ananda Yoga
DESCRIPTION:
URL:https://www.anandachico.org/event/ananda-yoga-270-2023-11-02/
END:VEVENT
BEGIN:VEVENT
DTSTART;TZID=UTC:20231102T120000
DTEND;TZID=UTC:20231102T130000
DTSTAMP:20260425T105803
CREATED:20231006T065756Z
LAST-MODIFIED:20231006T065756Z
UID:6547-1698926400-1698930000@www.anandachico.org
SUMMARY:Group Meditation
DESCRIPTION:
URL:https://www.anandachico.org/event/group-meditation-18-2023-11-02/
END:VEVENT
BEGIN:VEVENT
DTSTART;TZID=UTC:20231102T173000
DTEND;TZID=UTC:20231102T183000
DTSTAMP:20260425T105803
CREATED:20231006T065628Z
LAST-MODIFIED:20231006T065628Z
UID:6533-1698946200-1698949800@www.anandachico.org
SUMMARY:Ananda Yoga
DESCRIPTION:
URL:https://www.anandachico.org/event/ananda-yoga-271-2023-11-02/
END:VEVENT
BEGIN:VEVENT
DTSTART;TZID=UTC:20231102T190000
DTEND;TZID=UTC:20231102T210000
DTSTAMP:20260425T105803
CREATED:20231104T000419Z
LAST-MODIFIED:20231104T000419Z
UID:6606-1698951600-1698958800@www.anandachico.org
SUMMARY:Raja Yoga Class #2
DESCRIPTION:
URL:https://www.anandachico.org/event/raja-yoga-class-2-5/
END:VEVENT
BEGIN:VEVENT
DTSTART;TZID=UTC:20231106T104500
DTEND;TZID=UTC:20231106T114500
DTSTAMP:20260425T105803
CREATED:20231006T070909Z
LAST-MODIFIED:20231006T070909Z
UID:6562-1699267500-1699271100@www.anandachico.org
SUMMARY:Ananda Yoga
DESCRIPTION:
URL:https://www.anandachico.org/event/ananda-yoga-272-2023-11-06/
END:VEVENT
BEGIN:VEVENT
DTSTART;TZID=UTC:20231106T120000
DTEND;TZID=UTC:20231106T130000
DTSTAMP:20260425T105803
CREATED:20231006T071034Z
LAST-MODIFIED:20231006T071034Z
UID:6571-1699272000-1699275600@www.anandachico.org
SUMMARY:Group Meditation
DESCRIPTION:
URL:https://www.anandachico.org/event/group-meditation-19-2023-11-06/
END:VEVENT
BEGIN:VEVENT
DTSTART;TZID=UTC:20231107T173000
DTEND;TZID=UTC:20231107T183000
DTSTAMP:20260425T105803
CREATED:20231006T071949Z
LAST-MODIFIED:20231006T071949Z
UID:6587-1699378200-1699381800@www.anandachico.org
SUMMARY:Ananda Yoga
DESCRIPTION:
URL:https://www.anandachico.org/event/ananda-yoga-273-2023-11-07/
END:VEVENT
BEGIN:VEVENT
DTSTART;TZID=UTC:20231108T190000
DTEND;TZID=UTC:20231108T203000
DTSTAMP:20260425T105803
CREATED:20231104T000617Z
LAST-MODIFIED:20231104T000617Z
UID:6608-1699470000-1699475400@www.anandachico.org
SUMMARY:Learn to Meditate  Class #1
DESCRIPTION:
URL:https://www.anandachico.org/event/learn-to-meditate-class-1-65/
END:VEVENT
BEGIN:VEVENT
DTSTART;TZID=UTC:20231109T104500
DTEND;TZID=UTC:20231109T114500
DTSTAMP:20260425T105803
CREATED:20231006T065457Z
LAST-MODIFIED:20231006T065854Z
UID:6526-1699526700-1699530300@www.anandachico.org
SUMMARY:Ananda Yoga
DESCRIPTION:
URL:https://www.anandachico.org/event/ananda-yoga-270-2023-11-09/
END:VEVENT
BEGIN:VEVENT
DTSTART;TZID=UTC:20231109T120000
DTEND;TZID=UTC:20231109T130000
DTSTAMP:20260425T105803
CREATED:20231006T065756Z
LAST-MODIFIED:20231006T065756Z
UID:6548-1699531200-1699534800@www.anandachico.org
SUMMARY:Group Meditation
DESCRIPTION:
URL:https://www.anandachico.org/event/group-meditation-18-2023-11-09/
END:VEVENT
BEGIN:VEVENT
DTSTART;TZID=UTC:20231109T173000
DTEND;TZID=UTC:20231109T183000
DTSTAMP:20260425T105803
CREATED:20231006T065628Z
LAST-MODIFIED:20231006T065628Z
UID:6534-1699551000-1699554600@www.anandachico.org
SUMMARY:Ananda Yoga
DESCRIPTION:
URL:https://www.anandachico.org/event/ananda-yoga-271-2023-11-09/
END:VEVENT
BEGIN:VEVENT
DTSTART;TZID=UTC:20231112T100000
DTEND;TZID=UTC:20231112T103000
DTSTAMP:20260425T105803
CREATED:20231104T001041Z
LAST-MODIFIED:20231104T001041Z
UID:6612-1699783200-1699785000@www.anandachico.org
SUMMARY:Meditation and Purification Ceremony
DESCRIPTION:
URL:https://www.anandachico.org/event/meditation-and-purification-ceremony/
END:VEVENT
BEGIN:VEVENT
DTSTART;TZID=UTC:20231112T103000
DTEND;TZID=UTC:20231112T113000
DTSTAMP:20260425T105803
CREATED:20231104T001220Z
LAST-MODIFIED:20231104T001220Z
UID:6614-1699785000-1699788600@www.anandachico.org
SUMMARY:Sunday Service
DESCRIPTION:
URL:https://www.anandachico.org/event/sunday-service-133/
END:VEVENT
BEGIN:VEVENT
DTSTART;TZID=UTC:20231113T104500
DTEND;TZID=UTC:20231113T114500
DTSTAMP:20260425T105803
CREATED:20231006T070909Z
LAST-MODIFIED:20231006T070909Z
UID:6563-1699872300-1699875900@www.anandachico.org
SUMMARY:Ananda Yoga
DESCRIPTION:
URL:https://www.anandachico.org/event/ananda-yoga-272-2023-11-13/
END:VEVENT
BEGIN:VEVENT
DTSTART;TZID=UTC:20231113T120000
DTEND;TZID=UTC:20231113T130000
DTSTAMP:20260425T105803
CREATED:20231006T071034Z
LAST-MODIFIED:20231006T071034Z
UID:6572-1699876800-1699880400@www.anandachico.org
SUMMARY:Group Meditation
DESCRIPTION:
URL:https://www.anandachico.org/event/group-meditation-19-2023-11-13/
END:VEVENT
BEGIN:VEVENT
DTSTART;TZID=UTC:20231114T173000
DTEND;TZID=UTC:20231114T183000
DTSTAMP:20260425T105803
CREATED:20231006T071949Z
LAST-MODIFIED:20231006T071949Z
UID:6588-1699983000-1699986600@www.anandachico.org
SUMMARY:Ananda Yoga
DESCRIPTION:
URL:https://www.anandachico.org/event/ananda-yoga-273-2023-11-14/
END:VEVENT
BEGIN:VEVENT
DTSTART;TZID=UTC:20231115T190000
DTEND;TZID=UTC:20231115T203000
DTSTAMP:20260425T105803
CREATED:20231104T000904Z
LAST-MODIFIED:20231104T000904Z
UID:6610-1700074800-1700080200@www.anandachico.org
SUMMARY:Learn to Meditate  Class #2
DESCRIPTION:
URL:https://www.anandachico.org/event/learn-to-meditate-class-2-68/
END:VEVENT
BEGIN:VEVENT
DTSTART;TZID=UTC:20231116T104500
DTEND;TZID=UTC:20231116T114500
DTSTAMP:20260425T105803
CREATED:20231006T065457Z
LAST-MODIFIED:20231006T065854Z
UID:6527-1700131500-1700135100@www.anandachico.org
SUMMARY:Ananda Yoga
DESCRIPTION:
URL:https://www.anandachico.org/event/ananda-yoga-270-2023-11-16/
END:VEVENT
BEGIN:VEVENT
DTSTART;TZID=UTC:20231116T120000
DTEND;TZID=UTC:20231116T130000
DTSTAMP:20260425T105803
CREATED:20231006T065756Z
LAST-MODIFIED:20231006T065756Z
UID:6549-1700136000-1700139600@www.anandachico.org
SUMMARY:Group Meditation
DESCRIPTION:
URL:https://www.anandachico.org/event/group-meditation-18-2023-11-16/
END:VEVENT
BEGIN:VEVENT
DTSTART;TZID=UTC:20231116T173000
DTEND;TZID=UTC:20231116T183000
DTSTAMP:20260425T105803
CREATED:20231006T065628Z
LAST-MODIFIED:20231006T065628Z
UID:6535-1700155800-1700159400@www.anandachico.org
SUMMARY:Ananda Yoga
DESCRIPTION:
URL:https://www.anandachico.org/event/ananda-yoga-271-2023-11-16/
END:VEVENT
BEGIN:VEVENT
DTSTART;TZID=UTC:20231116T190000
DTEND;TZID=UTC:20231116T210000
DTSTAMP:20260425T105803
CREATED:20231104T001458Z
LAST-MODIFIED:20231104T001458Z
UID:6618-1700161200-1700168400@www.anandachico.org
SUMMARY:Raja Yoga  Class #3
DESCRIPTION:
URL:https://www.anandachico.org/event/raja-yoga-class-3-4/
END:VEVENT
BEGIN:VEVENT
DTSTART;TZID=UTC:20231120T104500
DTEND;TZID=UTC:20231120T114500
DTSTAMP:20260425T105803
CREATED:20231006T070909Z
LAST-MODIFIED:20231006T070909Z
UID:6564-1700477100-1700480700@www.anandachico.org
SUMMARY:Ananda Yoga
DESCRIPTION:
URL:https://www.anandachico.org/event/ananda-yoga-272-2023-11-20/
END:VEVENT
BEGIN:VEVENT
DTSTART;TZID=UTC:20231120T120000
DTEND;TZID=UTC:20231120T130000
DTSTAMP:20260425T105803
CREATED:20231006T071034Z
LAST-MODIFIED:20231006T071034Z
UID:6573-1700481600-1700485200@www.anandachico.org
SUMMARY:Group Meditation
DESCRIPTION:
URL:https://www.anandachico.org/event/group-meditation-19-2023-11-20/
END:VEVENT
BEGIN:VEVENT
DTSTART;TZID=UTC:20231121T173000
DTEND;TZID=UTC:20231121T183000
DTSTAMP:20260425T105803
CREATED:20231006T071949Z
LAST-MODIFIED:20231006T071949Z
UID:6589-1700587800-1700591400@www.anandachico.org
SUMMARY:Ananda Yoga
DESCRIPTION:
URL:https://www.anandachico.org/event/ananda-yoga-273-2023-11-21/
END:VEVENT
BEGIN:VEVENT
DTSTART;VALUE=DATE:20231123
DTEND;VALUE=DATE:20231124
DTSTAMP:20260425T105803
CREATED:20231104T001329Z
LAST-MODIFIED:20231104T001329Z
UID:6616-1700697600-1700783999@www.anandachico.org
SUMMARY:Happy Thanksgiving!
DESCRIPTION:
URL:https://www.anandachico.org/event/happy-thanksgiving-3/
END:VEVENT
BEGIN:VEVENT
DTSTART;TZID=UTC:20231126T100000
DTEND;TZID=UTC:20231126T103000
DTSTAMP:20260425T105803
CREATED:20231104T001635Z
LAST-MODIFIED:20231104T001635Z
UID:6620-1700992800-1700994600@www.anandachico.org
SUMMARY:Meditation and Purification Ceremony
DESCRIPTION:
URL:https://www.anandachico.org/event/meditation-and-purification-ceremony-2/
END:VEVENT
BEGIN:VEVENT
DTSTART;TZID=UTC:20231126T103000
DTEND;TZID=UTC:20231126T113000
DTSTAMP:20260425T105803
CREATED:20231104T001725Z
LAST-MODIFIED:20231104T001725Z
UID:6622-1700994600-1700998200@www.anandachico.org
SUMMARY:Sunday Service
DESCRIPTION:
URL:https://www.anandachico.org/event/sunday-service-134/
END:VEVENT
BEGIN:VEVENT
DTSTART;TZID=UTC:20231127T104500
DTEND;TZID=UTC:20231127T114500
DTSTAMP:20260425T105803
CREATED:20231006T070909Z
LAST-MODIFIED:20231202T040617Z
UID:6565-1701081900-1701085500@www.anandachico.org
SUMMARY:Ananda Yoga
DESCRIPTION:
URL:https://www.anandachico.org/event/ananda-yoga-272-2023-11-27/
END:VEVENT
BEGIN:VEVENT
DTSTART;TZID=UTC:20231127T120000
DTEND;TZID=UTC:20231127T130000
DTSTAMP:20260425T105803
CREATED:20231006T071034Z
LAST-MODIFIED:20231006T071034Z
UID:6574-1701086400-1701090000@www.anandachico.org
SUMMARY:Group Meditation
DESCRIPTION:
URL:https://www.anandachico.org/event/group-meditation-19-2023-11-27/
END:VEVENT
BEGIN:VEVENT
DTSTART;TZID=UTC:20231128T173000
DTEND;TZID=UTC:20231128T183000
DTSTAMP:20260425T105803
CREATED:20231006T071949Z
LAST-MODIFIED:20231006T071949Z
UID:6590-1701192600-1701196200@www.anandachico.org
SUMMARY:Ananda Yoga
DESCRIPTION:
URL:https://www.anandachico.org/event/ananda-yoga-273-2023-11-28/
END:VEVENT
END:VCALENDAR