BEGIN:VCALENDAR
VERSION:2.0
PRODID:-//Ananda Chico Meditation Center - ECPv6.15.1.1//NONSGML v1.0//EN
CALSCALE:GREGORIAN
METHOD:PUBLISH
X-WR-CALNAME:Ananda Chico Meditation Center
X-ORIGINAL-URL:https://www.anandachico.org
X-WR-CALDESC:Events for Ananda Chico Meditation Center
REFRESH-INTERVAL;VALUE=DURATION:PT1H
X-Robots-Tag:noindex
X-PUBLISHED-TTL:PT1H
BEGIN:VTIMEZONE
TZID:UTC
BEGIN:STANDARD
TZOFFSETFROM:+0000
TZOFFSETTO:+0000
TZNAME:UTC
DTSTART:20230101T000000
END:STANDARD
END:VTIMEZONE
BEGIN:VEVENT
DTSTART;TZID=UTC:20231003T173000
DTEND;TZID=UTC:20231003T183000
DTSTAMP:20260425T124851
CREATED:20231006T071949Z
LAST-MODIFIED:20231006T071949Z
UID:6581-1696354200-1696357800@www.anandachico.org
SUMMARY:Ananda Yoga
DESCRIPTION:
URL:https://www.anandachico.org/event/ananda-yoga-273/
END:VEVENT
BEGIN:VEVENT
DTSTART;TZID=UTC:20231004T170000
DTEND;TZID=UTC:20231004T183000
DTSTAMP:20260425T124851
CREATED:20231006T072108Z
LAST-MODIFIED:20231006T072108Z
UID:6591-1696438800-1696444200@www.anandachico.org
SUMMARY:Learn to Meditate Class #8
DESCRIPTION:
URL:https://www.anandachico.org/event/learn-to-meditate-class-8-4/
END:VEVENT
BEGIN:VEVENT
DTSTART;TZID=UTC:20231005T104500
DTEND;TZID=UTC:20231005T114500
DTSTAMP:20260425T124851
CREATED:20231006T065457Z
LAST-MODIFIED:20231006T065457Z
UID:6520-1696502700-1696506300@www.anandachico.org
SUMMARY:Ananda Yoga
DESCRIPTION:
URL:https://www.anandachico.org/event/ananda-yoga-270/
END:VEVENT
BEGIN:VEVENT
DTSTART;TZID=UTC:20231005T120000
DTEND;TZID=UTC:20231005T130000
DTSTAMP:20260425T124851
CREATED:20231006T065756Z
LAST-MODIFIED:20231006T065958Z
UID:6536-1696507200-1696510800@www.anandachico.org
SUMMARY:Group Meditation
DESCRIPTION:
URL:https://www.anandachico.org/event/group-meditation-18/
END:VEVENT
BEGIN:VEVENT
DTSTART;TZID=UTC:20231005T173000
DTEND;TZID=UTC:20231005T183000
DTSTAMP:20260425T124851
CREATED:20231006T065628Z
LAST-MODIFIED:20231006T065628Z
UID:6528-1696527000-1696530600@www.anandachico.org
SUMMARY:Ananda Yoga
DESCRIPTION:
URL:https://www.anandachico.org/event/ananda-yoga-271/
END:VEVENT
BEGIN:VEVENT
DTSTART;TZID=UTC:20231005T190000
DTEND;TZID=UTC:20231005T200000
DTSTAMP:20260425T124851
CREATED:20231005T070125Z
LAST-MODIFIED:20231006T070304Z
UID:6550-1696532400-1696536000@www.anandachico.org
SUMMARY:Free Introduction to Raja Yoga
DESCRIPTION:
URL:https://www.anandachico.org/event/ifree-introduction-to-raja-yoga/
END:VEVENT
BEGIN:VEVENT
DTSTART;TZID=UTC:20231008T100000
DTEND;TZID=UTC:20231008T103000
DTSTAMP:20260425T124851
CREATED:20231006T070508Z
LAST-MODIFIED:20231006T070508Z
UID:6553-1696759200-1696761000@www.anandachico.org
SUMMARY:Meditation & Purification Ceremony
DESCRIPTION:
URL:https://www.anandachico.org/event/meditation-purification-ceremony-8/
END:VEVENT
BEGIN:VEVENT
DTSTART;TZID=UTC:20231008T103000
DTEND;TZID=UTC:20231008T113000
DTSTAMP:20260425T124851
CREATED:20231006T070630Z
LAST-MODIFIED:20231006T070630Z
UID:6555-1696761000-1696764600@www.anandachico.org
SUMMARY:Sunday Service
DESCRIPTION:
URL:https://www.anandachico.org/event/sunday-service-131/
END:VEVENT
BEGIN:VEVENT
DTSTART;TZID=UTC:20231009T104500
DTEND;TZID=UTC:20231009T114500
DTSTAMP:20260425T124851
CREATED:20231006T070909Z
LAST-MODIFIED:20231006T070909Z
UID:6557-1696848300-1696851900@www.anandachico.org
SUMMARY:Ananda Yoga
DESCRIPTION:
URL:https://www.anandachico.org/event/ananda-yoga-272/
END:VEVENT
BEGIN:VEVENT
DTSTART;TZID=UTC:20231009T120000
DTEND;TZID=UTC:20231009T130000
DTSTAMP:20260425T124851
CREATED:20231006T071034Z
LAST-MODIFIED:20231006T071034Z
UID:6566-1696852800-1696856400@www.anandachico.org
SUMMARY:Group Meditation
DESCRIPTION:
URL:https://www.anandachico.org/event/group-meditation-19/
END:VEVENT
BEGIN:VEVENT
DTSTART;TZID=UTC:20231010T173000
DTEND;TZID=UTC:20231010T183000
DTSTAMP:20260425T124851
CREATED:20231006T071949Z
LAST-MODIFIED:20231006T071949Z
UID:6583-1696959000-1696962600@www.anandachico.org
SUMMARY:Ananda Yoga
DESCRIPTION:
URL:https://www.anandachico.org/event/ananda-yoga-273-2023-10-10/
END:VEVENT
BEGIN:VEVENT
DTSTART;TZID=UTC:20231012T104500
DTEND;TZID=UTC:20231012T114500
DTSTAMP:20260425T124851
CREATED:20231006T065457Z
LAST-MODIFIED:20231006T065854Z
UID:6522-1697107500-1697111100@www.anandachico.org
SUMMARY:Ananda Yoga
DESCRIPTION:
URL:https://www.anandachico.org/event/ananda-yoga-270-2023-10-12/
END:VEVENT
BEGIN:VEVENT
DTSTART;TZID=UTC:20231012T120000
DTEND;TZID=UTC:20231012T130000
DTSTAMP:20260425T124851
CREATED:20231006T065756Z
LAST-MODIFIED:20231006T065756Z
UID:6544-1697112000-1697115600@www.anandachico.org
SUMMARY:Group Meditation
DESCRIPTION:
URL:https://www.anandachico.org/event/group-meditation-18-2023-10-12/
END:VEVENT
BEGIN:VEVENT
DTSTART;TZID=UTC:20231012T173000
DTEND;TZID=UTC:20231012T183000
DTSTAMP:20260425T124851
CREATED:20231006T065628Z
LAST-MODIFIED:20231006T065628Z
UID:6530-1697131800-1697135400@www.anandachico.org
SUMMARY:Ananda Yoga
DESCRIPTION:
URL:https://www.anandachico.org/event/ananda-yoga-271-2023-10-12/
END:VEVENT
BEGIN:VEVENT
DTSTART;TZID=UTC:20231016T104500
DTEND;TZID=UTC:20231016T114500
DTSTAMP:20260425T124851
CREATED:20231006T070909Z
LAST-MODIFIED:20231006T070909Z
UID:6559-1697453100-1697456700@www.anandachico.org
SUMMARY:Ananda Yoga
DESCRIPTION:
URL:https://www.anandachico.org/event/ananda-yoga-272-2023-10-16/
END:VEVENT
BEGIN:VEVENT
DTSTART;TZID=UTC:20231016T120000
DTEND;TZID=UTC:20231016T130000
DTSTAMP:20260425T124851
CREATED:20231006T071034Z
LAST-MODIFIED:20231006T071034Z
UID:6568-1697457600-1697461200@www.anandachico.org
SUMMARY:Group Meditation
DESCRIPTION:
URL:https://www.anandachico.org/event/group-meditation-19-2023-10-16/
END:VEVENT
BEGIN:VEVENT
DTSTART;TZID=UTC:20231017T173000
DTEND;TZID=UTC:20231017T183000
DTSTAMP:20260425T124851
CREATED:20231006T071949Z
LAST-MODIFIED:20231006T071949Z
UID:6584-1697563800-1697567400@www.anandachico.org
SUMMARY:Ananda Yoga
DESCRIPTION:
URL:https://www.anandachico.org/event/ananda-yoga-273-2023-10-17/
END:VEVENT
BEGIN:VEVENT
DTSTART;TZID=UTC:20231019T104500
DTEND;TZID=UTC:20231019T114500
DTSTAMP:20260425T124851
CREATED:20231006T065457Z
LAST-MODIFIED:20231006T065854Z
UID:6523-1697712300-1697715900@www.anandachico.org
SUMMARY:Ananda Yoga
DESCRIPTION:
URL:https://www.anandachico.org/event/ananda-yoga-270-2023-10-19/
END:VEVENT
BEGIN:VEVENT
DTSTART;TZID=UTC:20231019T120000
DTEND;TZID=UTC:20231019T130000
DTSTAMP:20260425T124851
CREATED:20231006T065756Z
LAST-MODIFIED:20231006T065756Z
UID:6545-1697716800-1697720400@www.anandachico.org
SUMMARY:Group Meditation
DESCRIPTION:
URL:https://www.anandachico.org/event/group-meditation-18-2023-10-19/
END:VEVENT
BEGIN:VEVENT
DTSTART;TZID=UTC:20231019T173000
DTEND;TZID=UTC:20231019T183000
DTSTAMP:20260425T124851
CREATED:20231006T065628Z
LAST-MODIFIED:20231006T065628Z
UID:6531-1697736600-1697740200@www.anandachico.org
SUMMARY:Ananda Yoga
DESCRIPTION:
URL:https://www.anandachico.org/event/ananda-yoga-271-2023-10-19/
END:VEVENT
BEGIN:VEVENT
DTSTART;TZID=UTC:20231019T190000
DTEND;TZID=UTC:20231019T210000
DTSTAMP:20260425T124851
CREATED:20231006T071208Z
LAST-MODIFIED:20231006T071208Z
UID:6575-1697742000-1697749200@www.anandachico.org
SUMMARY:Raja Yoga Class #1
DESCRIPTION:
URL:https://www.anandachico.org/event/raja-yoga-class-1-3/
END:VEVENT
BEGIN:VEVENT
DTSTART;TZID=UTC:20231022T100000
DTEND;TZID=UTC:20231022T103000
DTSTAMP:20260425T124851
CREATED:20231006T071439Z
LAST-MODIFIED:20231006T071648Z
UID:6577-1697968800-1697970600@www.anandachico.org
SUMMARY:Meditation & Purification Ceremony
DESCRIPTION:
URL:https://www.anandachico.org/event/meditation-purification-ceremony-9/
END:VEVENT
BEGIN:VEVENT
DTSTART;TZID=UTC:20231022T103000
DTEND;TZID=UTC:20231022T113000
DTSTAMP:20260425T124851
CREATED:20231006T071804Z
LAST-MODIFIED:20231006T071804Z
UID:6579-1697970600-1697974200@www.anandachico.org
SUMMARY:Sunday Service
DESCRIPTION:
URL:https://www.anandachico.org/event/sunday-service-132/
END:VEVENT
BEGIN:VEVENT
DTSTART;TZID=UTC:20231023T104500
DTEND;TZID=UTC:20231023T114500
DTSTAMP:20260425T124851
CREATED:20231006T070909Z
LAST-MODIFIED:20231006T070909Z
UID:6560-1698057900-1698061500@www.anandachico.org
SUMMARY:Ananda Yoga
DESCRIPTION:
URL:https://www.anandachico.org/event/ananda-yoga-272-2023-10-23/
END:VEVENT
BEGIN:VEVENT
DTSTART;TZID=UTC:20231023T120000
DTEND;TZID=UTC:20231023T130000
DTSTAMP:20260425T124851
CREATED:20231006T071034Z
LAST-MODIFIED:20231006T071034Z
UID:6569-1698062400-1698066000@www.anandachico.org
SUMMARY:Group Meditation
DESCRIPTION:
URL:https://www.anandachico.org/event/group-meditation-19-2023-10-23/
END:VEVENT
BEGIN:VEVENT
DTSTART;TZID=UTC:20231024T173000
DTEND;TZID=UTC:20231024T183000
DTSTAMP:20260425T124851
CREATED:20231006T071949Z
LAST-MODIFIED:20231006T071949Z
UID:6585-1698168600-1698172200@www.anandachico.org
SUMMARY:Ananda Yoga
DESCRIPTION:
URL:https://www.anandachico.org/event/ananda-yoga-273-2023-10-24/
END:VEVENT
BEGIN:VEVENT
DTSTART;TZID=UTC:20231026T104500
DTEND;TZID=UTC:20231026T114500
DTSTAMP:20260425T124851
CREATED:20231006T065457Z
LAST-MODIFIED:20231006T065854Z
UID:6524-1698317100-1698320700@www.anandachico.org
SUMMARY:Ananda Yoga
DESCRIPTION:
URL:https://www.anandachico.org/event/ananda-yoga-270-2023-10-26/
END:VEVENT
BEGIN:VEVENT
DTSTART;TZID=UTC:20231026T120000
DTEND;TZID=UTC:20231026T130000
DTSTAMP:20260425T124851
CREATED:20231006T065756Z
LAST-MODIFIED:20231006T065756Z
UID:6546-1698321600-1698325200@www.anandachico.org
SUMMARY:Group Meditation
DESCRIPTION:
URL:https://www.anandachico.org/event/group-meditation-18-2023-10-26/
END:VEVENT
BEGIN:VEVENT
DTSTART;TZID=UTC:20231026T173000
DTEND;TZID=UTC:20231026T183000
DTSTAMP:20260425T124851
CREATED:20231006T065628Z
LAST-MODIFIED:20231006T065628Z
UID:6532-1698341400-1698345000@www.anandachico.org
SUMMARY:Ananda Yoga
DESCRIPTION:
URL:https://www.anandachico.org/event/ananda-yoga-271-2023-10-26/
END:VEVENT
BEGIN:VEVENT
DTSTART;TZID=UTC:20231029T100000
DTEND;TZID=UTC:20231029T103000
DTSTAMP:20260425T124851
CREATED:20231011T065331Z
LAST-MODIFIED:20231011T065331Z
UID:6598-1698573600-1698575400@www.anandachico.org
SUMMARY:Purification Ceremony
DESCRIPTION:
URL:https://www.anandachico.org/event/purification-ceremony-108/
END:VEVENT
END:VCALENDAR