BEGIN:VCALENDAR
VERSION:2.0
PRODID:-//Ananda Chico Meditation Center - ECPv6.15.1.1//NONSGML v1.0//EN
CALSCALE:GREGORIAN
METHOD:PUBLISH
X-ORIGINAL-URL:https://www.anandachico.org
X-WR-CALDESC:Events for Ananda Chico Meditation Center
REFRESH-INTERVAL;VALUE=DURATION:PT1H
X-Robots-Tag:noindex
X-PUBLISHED-TTL:PT1H
BEGIN:VTIMEZONE
TZID:UTC
BEGIN:STANDARD
TZOFFSETFROM:+0000
TZOFFSETTO:+0000
TZNAME:UTC
DTSTART:20230101T000000
END:STANDARD
END:VTIMEZONE
BEGIN:VEVENT
DTSTART;TZID=UTC:20230802T150000
DTEND;TZID=UTC:20230802T163000
DTSTAMP:20260425T161305
CREATED:20230804T045132Z
LAST-MODIFIED:20230804T045132Z
UID:6432-1690988400-1690993800@www.anandachico.org
SUMMARY:Learn to Meditate\, Class #4
DESCRIPTION:
URL:https://www.anandachico.org/event/learn-to-meditate-class-4-5/
END:VEVENT
BEGIN:VEVENT
DTSTART;TZID=UTC:20230803T120000
DTEND;TZID=UTC:20230803T130000
DTSTAMP:20260425T161305
CREATED:20230709T015727Z
LAST-MODIFIED:20230709T015727Z
UID:6403-1691064000-1691067600@www.anandachico.org
SUMMARY:Group Meditation
DESCRIPTION:
URL:https://www.anandachico.org/event/group-meditation-17-2023-08-03/
END:VEVENT
BEGIN:VEVENT
DTSTART;TZID=UTC:20230803T170000
DTEND;TZID=UTC:20230803T183000
DTSTAMP:20260425T161305
CREATED:20230804T045315Z
LAST-MODIFIED:20230804T045315Z
UID:6434-1691082000-1691087400@www.anandachico.org
SUMMARY:Learn to Meditate\, Class #7
DESCRIPTION:
URL:https://www.anandachico.org/event/learn-to-meditate-class-7-2/
END:VEVENT
BEGIN:VEVENT
DTSTART;TZID=UTC:20230806T100000
DTEND;TZID=UTC:20230806T103000
DTSTAMP:20260425T161305
CREATED:20230804T042515Z
LAST-MODIFIED:20230804T042515Z
UID:6428-1691316000-1691317800@www.anandachico.org
SUMMARY:Meditation & Purification Ceremony
DESCRIPTION:
URL:https://www.anandachico.org/event/meditation-purification-ceremony-4/
END:VEVENT
BEGIN:VEVENT
DTSTART;TZID=UTC:20230806T103000
DTEND;TZID=UTC:20230806T113000
DTSTAMP:20260425T161305
CREATED:20230804T044956Z
LAST-MODIFIED:20230804T044956Z
UID:6430-1691317800-1691321400@www.anandachico.org
SUMMARY:Sunday Service
DESCRIPTION:
URL:https://www.anandachico.org/event/sunday-service-127/
END:VEVENT
BEGIN:VEVENT
DTSTART;TZID=UTC:20230807T120000
DTEND;TZID=UTC:20230807T130000
DTSTAMP:20260425T161305
CREATED:20230709T015521Z
LAST-MODIFIED:20230709T015521Z
UID:6390-1691409600-1691413200@www.anandachico.org
SUMMARY:Group Meditation
DESCRIPTION:
URL:https://www.anandachico.org/event/group-meditation-16-2023-08-07/
END:VEVENT
BEGIN:VEVENT
DTSTART;TZID=UTC:20230809T150000
DTEND;TZID=UTC:20230809T163000
DTSTAMP:20260425T161305
CREATED:20230804T045437Z
LAST-MODIFIED:20230804T045437Z
UID:6436-1691593200-1691598600@www.anandachico.org
SUMMARY:Learn to Meditate\, Class #5
DESCRIPTION:
URL:https://www.anandachico.org/event/learn-to-meditate-class-5-4/
END:VEVENT
BEGIN:VEVENT
DTSTART;TZID=UTC:20230810T120000
DTEND;TZID=UTC:20230810T130000
DTSTAMP:20260425T161305
CREATED:20230709T015727Z
LAST-MODIFIED:20230709T015727Z
UID:6404-1691668800-1691672400@www.anandachico.org
SUMMARY:Group Meditation
DESCRIPTION:
URL:https://www.anandachico.org/event/group-meditation-17-2023-08-10/
END:VEVENT
BEGIN:VEVENT
DTSTART;TZID=UTC:20230813T100000
DTEND;TZID=UTC:20230813T103000
DTSTAMP:20260425T161305
CREATED:20230804T045618Z
LAST-MODIFIED:20230804T045618Z
UID:6438-1691920800-1691922600@www.anandachico.org
SUMMARY:Meditation & Purification Ceremony
DESCRIPTION:
URL:https://www.anandachico.org/event/meditation-purification-ceremony-5/
END:VEVENT
BEGIN:VEVENT
DTSTART;TZID=UTC:20230813T103000
DTEND;TZID=UTC:20230813T113000
DTSTAMP:20260425T161305
CREATED:20230804T045801Z
LAST-MODIFIED:20230804T045801Z
UID:6440-1691922600-1691926200@www.anandachico.org
SUMMARY:Sunday Service
DESCRIPTION:
URL:https://www.anandachico.org/event/sunday-service-128/
END:VEVENT
BEGIN:VEVENT
DTSTART;TZID=UTC:20230814T120000
DTEND;TZID=UTC:20230814T130000
DTSTAMP:20260425T161305
CREATED:20230709T015521Z
LAST-MODIFIED:20230709T015521Z
UID:6391-1692014400-1692018000@www.anandachico.org
SUMMARY:Group Meditation
DESCRIPTION:
URL:https://www.anandachico.org/event/group-meditation-16-2023-08-14/
END:VEVENT
BEGIN:VEVENT
DTSTART;TZID=UTC:20230817T104500
DTEND;TZID=UTC:20230817T114500
DTSTAMP:20260425T161305
CREATED:20230817T022500Z
LAST-MODIFIED:20230817T022630Z
UID:6449-1692269100-1692272700@www.anandachico.org
SUMMARY:Ananda Yoga
DESCRIPTION:
URL:https://www.anandachico.org/event/ananda-yoga-250/
END:VEVENT
BEGIN:VEVENT
DTSTART;TZID=UTC:20230817T120000
DTEND;TZID=UTC:20230817T130000
DTSTAMP:20260425T161305
CREATED:20230709T015727Z
LAST-MODIFIED:20230709T015727Z
UID:6405-1692273600-1692277200@www.anandachico.org
SUMMARY:Group Meditation
DESCRIPTION:
URL:https://www.anandachico.org/event/group-meditation-17-2023-08-17/
END:VEVENT
BEGIN:VEVENT
DTSTART;TZID=UTC:20230817T173000
DTEND;TZID=UTC:20230817T183000
DTSTAMP:20260425T161305
CREATED:20230817T022837Z
LAST-MODIFIED:20230817T022837Z
UID:6451-1692293400-1692297000@www.anandachico.org
SUMMARY:Ananda Yoga
DESCRIPTION:
URL:https://www.anandachico.org/event/ananda-yoga-251/
END:VEVENT
BEGIN:VEVENT
DTSTART;TZID=UTC:20230821T104500
DTEND;TZID=UTC:20230821T114500
DTSTAMP:20260425T161305
CREATED:20230817T023045Z
LAST-MODIFIED:20230817T023045Z
UID:6454-1692614700-1692618300@www.anandachico.org
SUMMARY:Ananda Yoga
DESCRIPTION:
URL:https://www.anandachico.org/event/ananda-yoga-252/
END:VEVENT
BEGIN:VEVENT
DTSTART;TZID=UTC:20230821T120000
DTEND;TZID=UTC:20230821T130000
DTSTAMP:20260425T161305
CREATED:20230709T015521Z
LAST-MODIFIED:20230709T015521Z
UID:6392-1692619200-1692622800@www.anandachico.org
SUMMARY:Group Meditation
DESCRIPTION:
URL:https://www.anandachico.org/event/group-meditation-16-2023-08-21/
END:VEVENT
BEGIN:VEVENT
DTSTART;TZID=UTC:20230822T173000
DTEND;TZID=UTC:20230822T183000
DTSTAMP:20260425T161305
CREATED:20230817T023313Z
LAST-MODIFIED:20230817T024842Z
UID:6457-1692725400-1692729000@www.anandachico.org
SUMMARY:Ananda Yoga
DESCRIPTION:
URL:https://www.anandachico.org/event/ananda-yoga-253/
END:VEVENT
BEGIN:VEVENT
DTSTART;TZID=UTC:20230824T104500
DTEND;TZID=UTC:20230824T114500
DTSTAMP:20260425T161305
CREATED:20230817T025023Z
LAST-MODIFIED:20230817T025023Z
UID:6459-1692873900-1692877500@www.anandachico.org
SUMMARY:Ananda Yoga
DESCRIPTION:
URL:https://www.anandachico.org/event/ananda-yoga-254/
END:VEVENT
BEGIN:VEVENT
DTSTART;TZID=UTC:20230824T120000
DTEND;TZID=UTC:20230824T130000
DTSTAMP:20260425T161305
CREATED:20230709T015727Z
LAST-MODIFIED:20230709T015727Z
UID:6406-1692878400-1692882000@www.anandachico.org
SUMMARY:Group Meditation
DESCRIPTION:
URL:https://www.anandachico.org/event/group-meditation-17-2023-08-24/
END:VEVENT
BEGIN:VEVENT
DTSTART;TZID=UTC:20230824T173000
DTEND;TZID=UTC:20230824T183000
DTSTAMP:20260425T161305
CREATED:20230817T022837Z
LAST-MODIFIED:20230817T022837Z
UID:6453-1692898200-1692901800@www.anandachico.org
SUMMARY:Ananda Yoga
DESCRIPTION:
URL:https://www.anandachico.org/event/ananda-yoga-251-2023-08-24/
END:VEVENT
BEGIN:VEVENT
DTSTART;TZID=UTC:20230828T104500
DTEND;TZID=UTC:20230828T114500
DTSTAMP:20260425T161305
CREATED:20230817T023045Z
LAST-MODIFIED:20230817T023045Z
UID:6456-1693219500-1693223100@www.anandachico.org
SUMMARY:Ananda Yoga
DESCRIPTION:
URL:https://www.anandachico.org/event/ananda-yoga-252-2023-08-28/
END:VEVENT
BEGIN:VEVENT
DTSTART;TZID=UTC:20230828T120000
DTEND;TZID=UTC:20230828T130000
DTSTAMP:20260425T161305
CREATED:20230709T015521Z
LAST-MODIFIED:20230709T015521Z
UID:6393-1693224000-1693227600@www.anandachico.org
SUMMARY:Group Meditation
DESCRIPTION:
URL:https://www.anandachico.org/event/group-meditation-16-2023-08-28/
END:VEVENT
BEGIN:VEVENT
DTSTART;TZID=UTC:20230829T173000
DTEND;TZID=UTC:20230829T183000
DTSTAMP:20260425T161305
CREATED:20230817T025636Z
LAST-MODIFIED:20230817T025636Z
UID:6463-1693330200-1693333800@www.anandachico.org
SUMMARY:Ananda Yoga
DESCRIPTION:
URL:https://www.anandachico.org/event/ananda-yoga-256/
END:VEVENT
BEGIN:VEVENT
DTSTART;TZID=UTC:20230830T170000
DTEND;TZID=UTC:20230830T183000
DTSTAMP:20260425T161305
CREATED:20230804T045925Z
LAST-MODIFIED:20230817T022009Z
UID:6442-1693414800-1693420200@www.anandachico.org
SUMMARY:Learn to Meditate\, Class #6
DESCRIPTION:
URL:https://www.anandachico.org/event/learn-to-meditate-class-6-2/
END:VEVENT
BEGIN:VEVENT
DTSTART;TZID=UTC:20230831T104500
DTEND;TZID=UTC:20230831T114500
DTSTAMP:20260425T161305
CREATED:20230817T025220Z
LAST-MODIFIED:20230817T025220Z
UID:6461-1693478700-1693482300@www.anandachico.org
SUMMARY:Ananda Yoga
DESCRIPTION:
URL:https://www.anandachico.org/event/ananda-yoga-255/
END:VEVENT
BEGIN:VEVENT
DTSTART;TZID=UTC:20230831T120000
DTEND;TZID=UTC:20230831T130000
DTSTAMP:20260425T161305
CREATED:20230709T015727Z
LAST-MODIFIED:20230709T015727Z
UID:6407-1693483200-1693486800@www.anandachico.org
SUMMARY:Group Meditation
DESCRIPTION:
URL:https://www.anandachico.org/event/group-meditation-17-2023-08-31/
END:VEVENT
BEGIN:VEVENT
DTSTART;TZID=UTC:20230831T170000
DTEND;TZID=UTC:20230831T183000
DTSTAMP:20260425T161305
CREATED:20230817T022149Z
LAST-MODIFIED:20230817T022149Z
UID:6447-1693501200-1693506600@www.anandachico.org
SUMMARY:Learn to Meditate\, Class #8
DESCRIPTION:
URL:https://www.anandachico.org/event/learn-to-meditate-class-8-2/
END:VEVENT
END:VCALENDAR