BEGIN:VCALENDAR
VERSION:2.0
PRODID:-//Ananda Chico Meditation Center - ECPv6.15.1.1//NONSGML v1.0//EN
CALSCALE:GREGORIAN
METHOD:PUBLISH
X-ORIGINAL-URL:https://www.anandachico.org
X-WR-CALDESC:Events for Ananda Chico Meditation Center
REFRESH-INTERVAL;VALUE=DURATION:PT1H
X-Robots-Tag:noindex
X-PUBLISHED-TTL:PT1H
BEGIN:VTIMEZONE
TZID:UTC
BEGIN:STANDARD
TZOFFSETFROM:+0000
TZOFFSETTO:+0000
TZNAME:UTC
DTSTART:20230101T000000
END:STANDARD
END:VTIMEZONE
BEGIN:VEVENT
DTSTART;TZID=UTC:20230703T120000
DTEND;TZID=UTC:20230703T130000
DTSTAMP:20260425T182031
CREATED:20230709T015521Z
LAST-MODIFIED:20230709T015521Z
UID:6384-1688385600-1688389200@www.anandachico.org
SUMMARY:Group Meditation
DESCRIPTION:
URL:https://www.anandachico.org/event/group-meditation-16/
END:VEVENT
BEGIN:VEVENT
DTSTART;TZID=UTC:20230706T120000
DTEND;TZID=UTC:20230706T130000
DTSTAMP:20260425T182031
CREATED:20230709T015727Z
LAST-MODIFIED:20230709T015756Z
UID:6398-1688644800-1688648400@www.anandachico.org
SUMMARY:Group Meditation
DESCRIPTION:
URL:https://www.anandachico.org/event/group-meditation-17/
END:VEVENT
BEGIN:VEVENT
DTSTART;TZID=UTC:20230709T100000
DTEND;TZID=UTC:20230709T103000
DTSTAMP:20260425T182031
CREATED:20230709T015239Z
LAST-MODIFIED:20230709T015239Z
UID:6382-1688896800-1688898600@www.anandachico.org
SUMMARY:Meditation & Purification Ceremony
DESCRIPTION:
URL:https://www.anandachico.org/event/meditation-purification-ceremony-2/
END:VEVENT
BEGIN:VEVENT
DTSTART;TZID=UTC:20230709T103000
DTEND;TZID=UTC:20230709T113000
DTSTAMP:20260425T182031
CREATED:20230709T020040Z
LAST-MODIFIED:20230709T020040Z
UID:6412-1688898600-1688902200@www.anandachico.org
SUMMARY:Sunday Service
DESCRIPTION:
URL:https://www.anandachico.org/event/sunday-service-125/
END:VEVENT
BEGIN:VEVENT
DTSTART;TZID=UTC:20230710T120000
DTEND;TZID=UTC:20230710T130000
DTSTAMP:20260425T182031
CREATED:20230709T015521Z
LAST-MODIFIED:20230709T015521Z
UID:6386-1688990400-1688994000@www.anandachico.org
SUMMARY:Group Meditation
DESCRIPTION:
URL:https://www.anandachico.org/event/group-meditation-16-2023-07-10/
END:VEVENT
BEGIN:VEVENT
DTSTART;TZID=UTC:20230712T070000
DTEND;TZID=UTC:20230712T203000
DTSTAMP:20260425T182031
CREATED:20230709T020618Z
LAST-MODIFIED:20230709T020618Z
UID:6419-1689145200-1689193800@www.anandachico.org
SUMMARY:Learn to Meditate\, Class #1
DESCRIPTION:
URL:https://www.anandachico.org/event/learn-to-meditate-class-1-63/
END:VEVENT
BEGIN:VEVENT
DTSTART;TZID=UTC:20230713T120000
DTEND;TZID=UTC:20230713T130000
DTSTAMP:20260425T182031
CREATED:20230709T015727Z
LAST-MODIFIED:20230709T015727Z
UID:6400-1689249600-1689253200@www.anandachico.org
SUMMARY:Group Meditation
DESCRIPTION:
URL:https://www.anandachico.org/event/group-meditation-17-2023-07-13/
END:VEVENT
BEGIN:VEVENT
DTSTART;TZID=UTC:20230713T170000
DTEND;TZID=UTC:20230713T183000
DTSTAMP:20260425T182031
CREATED:20230709T020318Z
LAST-MODIFIED:20230709T020318Z
UID:6414-1689267600-1689273000@www.anandachico.org
SUMMARY:Learn to Meditate\, Class #7
DESCRIPTION:
URL:https://www.anandachico.org/event/learn-to-meditate-class-7/
END:VEVENT
BEGIN:VEVENT
DTSTART;TZID=UTC:20230717T120000
DTEND;TZID=UTC:20230717T130000
DTSTAMP:20260425T182031
CREATED:20230709T015521Z
LAST-MODIFIED:20230709T015521Z
UID:6387-1689595200-1689598800@www.anandachico.org
SUMMARY:Group Meditation
DESCRIPTION:
URL:https://www.anandachico.org/event/group-meditation-16-2023-07-17/
END:VEVENT
BEGIN:VEVENT
DTSTART;TZID=UTC:20230719T190000
DTEND;TZID=UTC:20230719T203000
DTSTAMP:20260425T182031
CREATED:20230709T020744Z
LAST-MODIFIED:20230709T022154Z
UID:6421-1689793200-1689798600@www.anandachico.org
SUMMARY:Learn to Meditate\, Class #2
DESCRIPTION:
URL:https://www.anandachico.org/event/learn-to-meditate-class-2-66/
END:VEVENT
BEGIN:VEVENT
DTSTART;TZID=UTC:20230720T120000
DTEND;TZID=UTC:20230720T130000
DTSTAMP:20260425T182031
CREATED:20230709T015727Z
LAST-MODIFIED:20230709T015727Z
UID:6401-1689854400-1689858000@www.anandachico.org
SUMMARY:Group Meditation
DESCRIPTION:
URL:https://www.anandachico.org/event/group-meditation-17-2023-07-20/
END:VEVENT
BEGIN:VEVENT
DTSTART;TZID=UTC:20230723T100000
DTEND;TZID=UTC:20230723T103000
DTSTAMP:20260425T182031
CREATED:20230709T020920Z
LAST-MODIFIED:20230709T020920Z
UID:6423-1690106400-1690108200@www.anandachico.org
SUMMARY:Meditation & Purification Ceremony
DESCRIPTION:
URL:https://www.anandachico.org/event/meditation-purification-ceremony-3/
END:VEVENT
BEGIN:VEVENT
DTSTART;TZID=UTC:20230723T103000
DTEND;TZID=UTC:20230723T113000
DTSTAMP:20260425T182031
CREATED:20230709T021039Z
LAST-MODIFIED:20230709T021039Z
UID:6425-1690108200-1690111800@www.anandachico.org
SUMMARY:Sunday Service
DESCRIPTION:
URL:https://www.anandachico.org/event/sunday-service-126/
END:VEVENT
BEGIN:VEVENT
DTSTART;TZID=UTC:20230724T120000
DTEND;TZID=UTC:20230724T130000
DTSTAMP:20260425T182031
CREATED:20230709T015521Z
LAST-MODIFIED:20230709T015521Z
UID:6388-1690200000-1690203600@www.anandachico.org
SUMMARY:Group Meditation
DESCRIPTION:
URL:https://www.anandachico.org/event/group-meditation-16-2023-07-24/
END:VEVENT
BEGIN:VEVENT
DTSTART;TZID=UTC:20230727T120000
DTEND;TZID=UTC:20230727T130000
DTSTAMP:20260425T182031
CREATED:20230709T015727Z
LAST-MODIFIED:20230709T015727Z
UID:6402-1690459200-1690462800@www.anandachico.org
SUMMARY:Group Meditation
DESCRIPTION:
URL:https://www.anandachico.org/event/group-meditation-17-2023-07-27/
END:VEVENT
BEGIN:VEVENT
DTSTART;TZID=UTC:20230727T170000
DTEND;TZID=UTC:20230727T183000
DTSTAMP:20260425T182031
CREATED:20230709T020453Z
LAST-MODIFIED:20230709T020453Z
UID:6416-1690477200-1690482600@www.anandachico.org
SUMMARY:Learn to Meditate\, Class #8
DESCRIPTION:
URL:https://www.anandachico.org/event/learn-to-meditate-class-8/
END:VEVENT
BEGIN:VEVENT
DTSTART;TZID=UTC:20230731T120000
DTEND;TZID=UTC:20230731T130000
DTSTAMP:20260425T182031
CREATED:20230709T015521Z
LAST-MODIFIED:20230709T015521Z
UID:6389-1690804800-1690808400@www.anandachico.org
SUMMARY:Group Meditation
DESCRIPTION:
URL:https://www.anandachico.org/event/group-meditation-16-2023-07-31/
END:VEVENT
END:VCALENDAR