BEGIN:VCALENDAR
VERSION:2.0
PRODID:-//Ananda Chico Meditation Center - ECPv6.15.1.1//NONSGML v1.0//EN
CALSCALE:GREGORIAN
METHOD:PUBLISH
X-ORIGINAL-URL:https://www.anandachico.org
X-WR-CALDESC:Events for Ananda Chico Meditation Center
REFRESH-INTERVAL;VALUE=DURATION:PT1H
X-Robots-Tag:noindex
X-PUBLISHED-TTL:PT1H
BEGIN:VTIMEZONE
TZID:UTC
BEGIN:STANDARD
TZOFFSETFROM:+0000
TZOFFSETTO:+0000
TZNAME:UTC
DTSTART:20230101T000000
END:STANDARD
END:VTIMEZONE
BEGIN:VEVENT
DTSTART;TZID=UTC:20230601T120000
DTEND;TZID=UTC:20230601T130000
DTSTAMP:20260425T201103
CREATED:20230405T044646Z
LAST-MODIFIED:20230405T044646Z
UID:6285-1685620800-1685624400@www.anandachico.org
SUMMARY:Group Meditation
DESCRIPTION:
URL:https://www.anandachico.org/event/group-meditation-11-2023-06-01/
END:VEVENT
BEGIN:VEVENT
DTSTART;TZID=UTC:20230601T170000
DTEND;TZID=UTC:20230601T183000
DTSTAMP:20260425T201103
CREATED:20230611T072240Z
LAST-MODIFIED:20230611T072240Z
UID:6368-1685638800-1685644200@www.anandachico.org
SUMMARY:Learn to Meditate\, Class #5
DESCRIPTION:
URL:https://www.anandachico.org/event/learn-to-meditate-class-5-3/
END:VEVENT
BEGIN:VEVENT
DTSTART;TZID=UTC:20230604T100000
DTEND;TZID=UTC:20230604T103000
DTSTAMP:20260425T201103
CREATED:20230611T072421Z
LAST-MODIFIED:20230611T072421Z
UID:6370-1685872800-1685874600@www.anandachico.org
SUMMARY:Purification Ceremony
DESCRIPTION:
URL:https://www.anandachico.org/event/purification-ceremony-107/
END:VEVENT
BEGIN:VEVENT
DTSTART;TZID=UTC:20230604T103000
DTEND;TZID=UTC:20230604T113000
DTSTAMP:20260425T201103
CREATED:20230611T072548Z
LAST-MODIFIED:20230611T072548Z
UID:6372-1685874600-1685878200@www.anandachico.org
SUMMARY:Sunday Service
DESCRIPTION:
URL:https://www.anandachico.org/event/sunday-service-124/
END:VEVENT
BEGIN:VEVENT
DTSTART;TZID=UTC:20230605T120000
DTEND;TZID=UTC:20230605T130000
DTSTAMP:20260425T201103
CREATED:20230405T044933Z
LAST-MODIFIED:20230405T044933Z
UID:6300-1685966400-1685970000@www.anandachico.org
SUMMARY:Group Meditation
DESCRIPTION:
URL:https://www.anandachico.org/event/group-meditation-12-2023-06-05/
END:VEVENT
BEGIN:VEVENT
DTSTART;TZID=UTC:20230608T120000
DTEND;TZID=UTC:20230608T130000
DTSTAMP:20260425T201103
CREATED:20230405T044646Z
LAST-MODIFIED:20230405T044646Z
UID:6286-1686225600-1686229200@www.anandachico.org
SUMMARY:Group Meditation
DESCRIPTION:
URL:https://www.anandachico.org/event/group-meditation-11-2023-06-08/
END:VEVENT
BEGIN:VEVENT
DTSTART;TZID=UTC:20230612T120000
DTEND;TZID=UTC:20230612T130000
DTSTAMP:20260425T201103
CREATED:20230405T044933Z
LAST-MODIFIED:20230405T044933Z
UID:6301-1686571200-1686574800@www.anandachico.org
SUMMARY:Group Meditation
DESCRIPTION:
URL:https://www.anandachico.org/event/group-meditation-12-2023-06-12/
END:VEVENT
BEGIN:VEVENT
DTSTART;TZID=UTC:20230615T120000
DTEND;TZID=UTC:20230615T130000
DTSTAMP:20260425T201103
CREATED:20230405T044646Z
LAST-MODIFIED:20230405T044646Z
UID:6287-1686830400-1686834000@www.anandachico.org
SUMMARY:Group Meditation
DESCRIPTION:
URL:https://www.anandachico.org/event/group-meditation-11-2023-06-15/
END:VEVENT
BEGIN:VEVENT
DTSTART;TZID=UTC:20230615T170000
DTEND;TZID=UTC:20230615T183000
DTSTAMP:20260425T201103
CREATED:20230611T071752Z
LAST-MODIFIED:20230611T073012Z
UID:6362-1686848400-1686853800@www.anandachico.org
SUMMARY:Learn to Meditate\, Class #6
DESCRIPTION:
URL:https://www.anandachico.org/event/learn-to-meditate-class6/
END:VEVENT
BEGIN:VEVENT
DTSTART;TZID=UTC:20230618T100000
DTEND;TZID=UTC:20230618T103000
DTSTAMP:20260425T201103
CREATED:20230611T071946Z
LAST-MODIFIED:20230611T071946Z
UID:6364-1687082400-1687084200@www.anandachico.org
SUMMARY:Purification Ceremony
DESCRIPTION:
URL:https://www.anandachico.org/event/purification-ceremony-106/
END:VEVENT
BEGIN:VEVENT
DTSTART;TZID=UTC:20230618T103000
DTEND;TZID=UTC:20230618T113000
DTSTAMP:20260425T201103
CREATED:20230611T072114Z
LAST-MODIFIED:20230611T072114Z
UID:6366-1687084200-1687087800@www.anandachico.org
SUMMARY:Sunday Service
DESCRIPTION:
URL:https://www.anandachico.org/event/sunday-service-123/
END:VEVENT
BEGIN:VEVENT
DTSTART;TZID=UTC:20230619T120000
DTEND;TZID=UTC:20230619T130000
DTSTAMP:20260425T201103
CREATED:20230405T044933Z
LAST-MODIFIED:20230405T044933Z
UID:6302-1687176000-1687179600@www.anandachico.org
SUMMARY:Group Meditation
DESCRIPTION:
URL:https://www.anandachico.org/event/group-meditation-12-2023-06-19/
END:VEVENT
BEGIN:VEVENT
DTSTART;TZID=UTC:20230621T190000
DTEND;TZID=UTC:20230621T203000
DTSTAMP:20260425T201103
CREATED:20230620T110755Z
LAST-MODIFIED:20230620T111219Z
UID:6377-1687374000-1687379400@www.anandachico.org
SUMMARY:Living in the Light: Special Satsang with Nayaswami Aditya
DESCRIPTION:
URL:https://www.anandachico.org/event/living-in-the-light-special-satsang-with-nayaswami-aditya/
END:VEVENT
BEGIN:VEVENT
DTSTART;TZID=UTC:20230622T120000
DTEND;TZID=UTC:20230622T130000
DTSTAMP:20260425T201103
CREATED:20230405T044646Z
LAST-MODIFIED:20230405T044646Z
UID:6288-1687435200-1687438800@www.anandachico.org
SUMMARY:Group Meditation
DESCRIPTION:
URL:https://www.anandachico.org/event/group-meditation-11-2023-06-22/
END:VEVENT
BEGIN:VEVENT
DTSTART;TZID=UTC:20230626T120000
DTEND;TZID=UTC:20230626T130000
DTSTAMP:20260425T201103
CREATED:20230405T044933Z
LAST-MODIFIED:20230405T044933Z
UID:6303-1687780800-1687784400@www.anandachico.org
SUMMARY:Group Meditation
DESCRIPTION:
URL:https://www.anandachico.org/event/group-meditation-12-2023-06-26/
END:VEVENT
BEGIN:VEVENT
DTSTART;TZID=UTC:20230629T120000
DTEND;TZID=UTC:20230629T130000
DTSTAMP:20260425T201103
CREATED:20230405T044646Z
LAST-MODIFIED:20230405T044646Z
UID:6289-1688040000-1688043600@www.anandachico.org
SUMMARY:Group Meditation
DESCRIPTION:
URL:https://www.anandachico.org/event/group-meditation-11-2023-06-29/
END:VEVENT
END:VCALENDAR